Workbook

Sheet 1 клас
A1: ІІ | B1: РАЗПРЕДЕЛЕНИЕ НА ПРЕДМЕТИТЕ И ЧАСОВЕТЕ:
A2: І клас учебната 2025/2026година
A3: № | B3: Видове подготовка, учебни предмети/ модули | C3: брой учебни седмици | E3: годишен брой часове
C4: 18 | D4: 14
C5: седмичен брой часове
A6: 1 | B6: 2 | C6: 3 | D6: 4 | E6: 6
A7: Раздел А - задължителни учебни часове
A8: І | B8: Общообразователна подготовка
A9: 1 | B9: Български език и литература | C9: 7 | D9: 7 | E9: =(C9*$C$4)+(D9*$D$4) -> 224
A10: 2 | B10: Математика | C10: 4 | D10: 4 | E10: =(C10*$C$4)+(D10*$D$4) -> 128
A11: 3 | B11: Родинознание | C11: 1 | D11: 1 | E11: =(C11*$C$4)+(D11*$D$4) -> 32
A12: 4 | B12: Музика | C12: 2 | D12: 2 | E12: =(C12*$C$4)+(D12*$D$4) -> 64
A13: 5 | B13: Изобразително изкуство | C13: 2 | D13: 2 | E13: =(C13*$C$4)+(D13*$D$4) -> 64
A14: 6 | B14: Технологии и предприемачество | C14: 1 | D14: 1 | E14: =(C14*$C$4)+(D14*$D$4) -> 32
A15: 7 | B15: Физическо възпитание и спорт | C15: 2 | D15: 2 | E15: =(C15*$C$4)+(D15*$D$4) -> 64
C16: =SUM(C9:C15) -> 19 | D16: =SUM(D9:D15) -> 19 | E16: =SUM(E9:E15) -> 608
B17: Общо за Раздел А | C17: =SUM(C9:C15) -> 19 | D17: =SUM(D9:D15) -> 19 | E17: =SUM(E9:E15) -> 608
A18: Раздел Б - задължителни учебни часове
A19: 1 | B19: Български език и литература | C19: 2 | D19: 2 | E19: =(C19*$C$4)+(D19*$D$4) -> 64
A20: 2 | B20: Математика | C20: 1 | D20: 1 | E20: =(C20*$C$4)+(D20*$D$4) -> 32
A21: Общо за Раздел Б | C21: =SUM(C19:C20) -> 3 | D21: =SUM(D19:D20) -> 3 | E21: =SUM(E19:E20) -> 96
A22: Общо за Раздел А+Раздел Б | C22: =SUM(C17,C21) -> 22 | D22: =SUM(D17,D21) -> 22
C23: =SUM(C17,C21)*18 -> 396 | D23: =SUM(D17,D21)*14 -> 308 | E23: =SUM(C23:D23) -> 704
A24: Раздел В - факултативни учебни часове
A25: Общо за Раздел А+Раздел Б+Раздел В | C25: =SUM(C17,C21) -> 22 | D25: =SUM(D17,D21) -> 22
C26: =SUM(C17,C21)*18 -> 396 | D26: =SUM(D17,D21)*18 -> 396 | E26: =SUM(E17,E21) -> 704
A27: ІІ | B27: Часове на основание чл.29, ал. 1 и ал. 2 от ЗПУО
A28: 1 | B28: Час на класа | C28: 1 | D28: 1 | E28: =((C28*$C$4-C30))+((D28*$D$4)-D30) -> 21
A29: 2 | B29: Модул за осъществяване на спортни дейности - лека атлетика | C29: 1 | D29: 1 | E29: =(C29*$C$4)+(D29*$D$4) -> 32
A30: 3 | B30: Безопасност на движението по пътищата... | C30: 6 | D30: 5 | E30: =SUM(C30:D30) -> 11
A31: ІІІ | B31: изм. - ДВ, бр. 75 от 2021 г.
A32: 1 | B32: Проекти и творчески дейности | C32: 1 седмица

Sheet 2 клас
A1: ІІ | B1: РАЗПРЕДЕЛЕНИЕ НА ПРЕДМЕТИТЕ И ЧАСОВЕТЕ:
A2: ІІ клас учебната 2025/2026година
A3: № | B3: Видове подготовка, учебни предмети/ модули | C3: брой учебни седмици | E3: годишен брой часове
C4: 18 | D4: 14
C5: седмичен брой часове
A6: 1 | B6: 2 | C6: 3 | D6: 4 | E6: 6
A7: Раздел А - задължителни учебни часове
A8: І | B8: Общообразователна подготовка
A9: 1 | B9: Български език и литература | C9: 7 | D9: 7 | E9: =(C9*$C$4)+(D9*$D$4) -> 224
A10: 2 | B10: Чужд език - Английски език | C10: 2 | D10: 2 | E10: =(C10*$C$4)+(D10*$D$4) -> 64
A11: 3 | B11: Математика | C11: 3 | D11: 4 | E11: =((C11+D11)/2)*($C$4+$D$4) -> 112 | G11: 4 | H11: 3 | I11: =((C11+D11)/2)*($C$4+$D$4) -> 112
A12: 4 | B12: Родинознание | C12: 1 | D12: 1 | E12: =(C12*$C$4)+(D12*$D$4) -> 32
A13: 5 | B13: Музика | C13: 2 | D13: 2 | E13: =(C13*$C$4)+(D13*$D$4) -> 64
A14: 6 | B14: Изобразително изкуство | C14: 2 | D14: 1 | E14: =((C14+D14)/2)*($C$4+$D$4) -> 48
A15: 7 | B15: Технологии и предприемачество | C15: 1 | D15: 1 | E15: =(C15*$C$4)+(D15*$D$4) -> 32
A16: 8 | B16: Физическо възпитание и спорт | C16: 2 | D16: 2 | E16: =(C16*$C$4)+(D16*$D$4) -> 64
C17: =SUM(C9:C16) -> 20 | D17: =SUM(D9:D16) -> 20 | E17: =(C17*$C$4)+(D17*$D$4) -> 640
B18: Общо за Раздел А | C18: =SUM(C9:C16) -> 20 | D18: =SUM(D9:D16) -> 20 | E18: =SUM(E9:E16) -> 640
A19: Раздел Б - Избираеми учебни чосови
A20: 1 | B20: Български език и литература | C20: 2 | D20: 2 | E20: =(C20*$C$4)+(D20*$D$4) -> 64
A21: 2 | B21: Математика | C21: 1 | D21: 1 | E21: =(C21*$C$4)+(D21*$D$4) -> 32
A22: 3
A23: Общо за Раздел Б | C23: =SUM(C20:C22) -> 3 | D23: =SUM(D20:D22) -> 3 | E23: =SUM(E20:E22) -> 96
A24: Раздел Б - задължителни учебни часове
A25: Общо за Раздел А+Раздел Б+Раздел В | C25: =SUM(C18,C23) -> 23 | D25: =SUM(D18,D23) -> 23
C26: =SUM(C18,C23)*18 -> 414 | D26: =SUM(D18,D23)*18 -> 414 | E26: =SUM(E18,E23) -> 736
A27: ІІ | B27: Часове на основание чл.29, ал. 1 и ал. 2 от ЗПУО
A28: 1 | B28: Час на класа | C28: 1 | D28: 1 | E28: =((C28*$C$4-C30))+((D28*$D$4)-D30) -> 24
A29: 2 | B29: Модул за осъществяване на спортни дейности - лека атлетика | C29: 1 | D29: 1 | E29: =(C29*$C$4)+(D29*$D$4) -> 32
A30: 3 | B30: Безопасност на движението по пътищата... | C30: 4 | D30: 4 | E30: =SUM(C30:D30) -> 8
A31: ІІІ | B31: изм. - ДВ, бр. 75 от 2021 г.
A32: 1 | B32: Проекти и творчески дейности | C32: 1 седмица

Sheet 3 клас 
A1: ІІ | B1: РАЗПРЕДЕЛЕНИЕ НА ПРЕДМЕТИТЕ И ЧАСОВЕТЕ:
A2: ІІІ клас учебната 2025/2026 година
A3: № | B3: Видове подготовка, учебни предмети/ модули | C3: брой учебни седмици | E3: годишен брой часове
C4: 18 | D4: 14
C5: седмичен брой часове
A6: 1 | B6: 2 | C6: 3 | D6: 4 | E6: 6
A7: Раздел А - задължителни учебни часове
A8: І | B8: Общообразователна подготовка
A9: 1 | B9: Български език и литература | C9: 7 | D9: 7 | E9: =(C9*$C$4)+(D9*$D$4) -> 224
A10: 2 | B10: Чужд език - Английски език | C10: 3 | D10: 3 | E10: =(C10*$C$4)+(D10*$D$4) -> 96
A11: 3 | B11: Математика | C11: 4 | D11: 3 | E11: =((C11+D11)/2)*($C$4+$D$4) -> 112
A12: 4 | B12: Компютърно моделиране | C12: 1 | D12: 1 | E12: =(C12*$C$4)+(D12*$D$4) -> 32
A13: 5 | B13: Човекът и обществото | C13: 2 | D13: 2 | E13: =(C13*$C$4)+(D13*$D$4) -> 64
A14: 6 | B14: Човекът и природата | C14: 1 | D14: 1 | E14: =(C14*$C$4)+(D14*$D$4) -> 32
A15: 7 | B15: Музика | C15: 1 | D15: 2 | E15: =((C15+D15)/2)*($C$4+$D$4) -> 48
A16: 8 | B16: Изобразително изкуство | C16: 2 | D16: 2 | E16: =(C16*$C$4)+(D16*$D$4) -> 64
A17: 9 | B17: Технологии и предприемачество | C17: 1 | D17: 1 | E17: =(C17*$C$4)+(D17*$D$4) -> 32
A18: 10 | B18: Физическо възпитание и спорт | C18: 2 | D18: 3 | E18: =((C18+D18)/2)*($C$4+$D$4) -> 80
C19: =SUM(C9:C18) -> 24 | D19: =SUM(D9:D18) -> 25 | E19: =SUM(E9:E18) -> 784
B20: Общо за Раздел А | C20: =SUM(C9:C18) -> 24 | D20: =SUM(D9:D18) -> 25 | E20: =SUM(E9:E18) -> 784
A21: Раздел Б - задължителни учебни часове
A22: 1 | B22: Български език и литература | C22: 2 | D22: 1 | E22: =((C22+D22)/2)*($C$4+$D$4) -> 48
A23: 2 | B23: Математика | C23: 1 | D23: 1 | E23: =(C23*$C$4)+(D23*$D$4) -> 32
A24: Общо за Раздел Б | C24: =SUM(C22:C23) -> 3 | D24: =SUM(D22:D23) -> 2 | E24: =SUM(E22:E23) -> 80
A25: Раздел В - факултативни учебни часове
A26: Общо за Раздел А+Раздел Б+Раздел В | C26: =SUM(C20,C24) -> 27 | D26: =SUM(D20,D24) -> 27
C27: =SUM(C20,C24)*18 -> 486 | D27: =SUM(D20,D24)*18 -> 486 | E27: =SUM(E20,E24) -> 864
A28: ІХ | B28: Часове на основание чл.29, ал. 1 и ал. 2 от ЗПУО
A29: 1 | B29: Час на класа | C29: 1 | D29: 1 | E29: =((C29*$C$4-C31))+((D29*$D$4)-D31) -> 24
A30: 2 | B30: Модул за осъществяване на спортни дейности - лека атлетика | C30: 1 | D30: 1 | E30: =(C30*$C$4)+(D30*$D$4) -> 32
A31: 3 | B31: Безопасност на движението по пътищата... | C31: 4 | D31: 4 | E31: =SUM(C31:D31) -> 8
A32: ІІІ | B32: изм. - ДВ, бр. 75 от 2021 г.
A33: 1 | B33: Проекти и творчески дейности | C33: 1 седмица

Sheet 4 клас 
A1: ІІ | B1: РАЗПРЕДЕЛЕНИЕ НА ПРЕДМЕТИТЕ И ЧАСОВЕТЕ:
A2: ІV клас учебната 2025/2026 година
A3: № | B3: Видове подготовка, учебни предмети/ модули | C3: брой учебни седмици | E3: годишен брой часове
C4: 18 | D4: 16
C5: седмичен брой часове
A6: 1 | B6: 2 | C6: 3 | D6: 4 | E6: 6
A7: Раздел А - задължителни учебни часове
A8: І | B8: Общообразователна подготовка
A9: 1 | B9: Български език и литература | C9: 7 | D9: 7 | E9: =(C9*$C$4)+(D9*$D$4) -> 238
A10: 2 | B10: Чужд език - Английски език | C10: 3 | D10: 3 | E10: =(C10*$C$4)+(D10*$D$4) -> 102
A11: 3 | B11: Математика | C11: 4 | D11: 4 | E11: =(C11*$C$4)+(D11*$D$4) -> 136
A12: 4 | B12: Компютърно моделиране | C12: 1 | D12: 1 | E12: =(C12*$C$4)+(D12*$D$4) -> 34
A13: 5 | B13: Човекът и обществото | C13: 1 | D13: 1 | E13: =(C13*$C$4)+(D13*$D$4) -> 34
A14: 6 | B14: Човекът и природата | C14: 2 | D14: 2 | E14: =(C14*$C$4)+(D14*$D$4) -> 68
A15: 7 | B15: Музика | C15: 1 | D15: 2 | E15: =((C15+D15)/2)*($C$4+$D$4) -> 51
A16: 8 | B16: Изобразително изкуство | C16: 2 | D16: 1 | E16: =((C16+D16)/2)*($C$4+$D$4) -> 51
A17: 9 | B17: Технологии и предприемачество | C17: 1 | D17: 1 | E17: =(C17*$C$4)+(D17*$D$4) -> 34
A18: 10 | B18: Физическо възпитание и спорт | C18: 2 | D18: 3 | E18: =((C18+D18)/2)*($C$4+$D$4) -> 85
C19: =SUM(C9:C18) -> 24 | D19: =SUM(D9:D18) -> 25 | E19: =SUM(E9:E18) -> 833
B20: Общо за Раздел А | C20: =SUM(C9:C18) -> 24 | D20: =SUM(D9:D18) -> 25 | E20: =SUM(E9:E18) -> 833
A21: Раздел Б - задължителни учебни часове
A22: 1 | B22: Български език и литература | C22: 2 | D22: 1 | E22: =((C22+D22)/2)*($C$4+$D$4) -> 51
A23: 2 | B23: Математика | C23: 1 | D23: 1 | E23: =(C23*$C$4)+(D23*$D$4) -> 34
A24: Общо за Раздел Б | C24: =SUM(C22:C23) -> 3 | D24: =SUM(D22:D23) -> 2 | E24: =SUM(E22:E23) -> 85
A25: Раздел В - факултативни учебни часове
A26: Общо за Раздел А+Раздел Б+Раздел В | C26: =SUM(C20,C24) -> 27 | D26: =SUM(D20,D24) -> 27
C27: =SUM(C20,C24)*18 -> 486 | D27: =SUM(D20,D24)*18 -> 486 | E27: =SUM(E20,E24) -> 918
A28: ІХ | B28: Часове на основание чл.29, ал. 1 и ал. 2 от ЗПУО
A29: 1 | B29: Час на класа | C29: 1 | D29: 1 | E29: =((C29*$C$4-C31))+((D29*$D$4)-D31) -> 26
A30: 2 | B30: Модул за осъществяване на спортни дейности - лека атлетика | C30: 1 | D30: 1 | E30: =(C30*$C$4)+(D30*$D$4) -> 34
A31: 3 | B31: Безопасност на движението по пътищата... | C31: 4 | D31: 4 | E31: =SUM(C31:D31) -> 8

Sheet 4 клас  ИУП
A1: ІІ | B1: РАЗПРЕДЕЛЕНИЕ НА ПРЕДМЕТИТЕ И ЧАСОВЕТЕ:
A2: ІV клас учебната 2025/2026 година
A3: № | B3: Видове подготовка, учебни предмети/ модули | C3: брой учебни седмици | E3: годишен брой часове
C4: 18 | D4: 16
C5: седмичен брой часове
A6: 1 | B6: 2 | C6: 3 | D6: 4 | E6: 6
A7: Раздел А - задължителни учебни часове
A8: І | B8: Общообразователна подготовка
A9: 1 | B9: Български език и литература | C9: 2 | D9: 2 | E9: =(C9*$C$4)+(D9*$D$4) -> 68
A10: 2 | B10: Чужд език - Английски език | C10: 0 | D10: 0 | E10: =(C10*$C$4)+(D10*$D$4) -> 0
A11: 3 | B11: Математика | C11: 1 | D11: 1 | E11: =(C11*$C$4)+(D11*$D$4) -> 34
A12: 4 | B12: Компютърно моделиране | C12: 0 | D12: 0 | E12: =(C12*$C$4)+(D12*$D$4) -> 0
A13: 5 | B13: Човекът и обществото | C13: 1 | D13: 1 | E13: =(C13*$C$4)+(D13*$D$4) -> 34
A14: 6 | B14: Човекът и природата | C14: 1 | D14: 1 | E14: =(C14*$C$4)+(D14*$D$4) -> 34
A15: 7 | B15: Музика | C15: 1 | D15: 1 | E15: =((C15+D15)/2)*($C$4+$D$4) -> 34
A16: 8 | B16: Изобразително изкуство | C16: 0 | D16: 0 | E16: =((C16+D16)/2)*($C$4+$D$4) -> 0
A17: 9 | B17: Технологии и предприемачество | C17: 0 | D17: 0 | E17: =(C17*$C$4)+(D17*$D$4) -> 0
A18: 10 | B18: Физическо възпитание и спорт | C18: 0 | D18: 0 | E18: =((C18+D18)/2)*($C$4+$D$4) -> 0
C19: =SUM(C9:C18) -> 6 | D19: =SUM(D9:D18) -> 6 | E19: =SUM(E9:E18) -> 204
B20: Общо за Раздел А | C20: =SUM(C9:C18) -> 6 | D20: =SUM(D9:D18) -> 6 | E20: =SUM(E9:E18) -> 204
A21: Раздел Б - задължителни учебни часове
A22: 1 | B22: Български език и литература | C22: 0 | D22: 0 | E22: =((C22+D22)/2)*($C$4+$D$4) -> 0
A23: 2 | B23: Математика | C23: 0 | D23: 0 | E23: =(C23*$C$4)+(D23*$D$4) -> 0
A24: Общо за Раздел Б | C24: =SUM(C22:C23) -> 0 | D24: =SUM(D22:D23) -> 0 | E24: =SUM(E22:E23) -> 0
A25: Раздел В - факултативни учебни часове
A26: Общо за Раздел А+Раздел Б+Раздел В | C26: =SUM(C20,C24) -> 6 | D26: =SUM(D20,D24) -> 6
C27: =SUM(C20,C24)*18 -> 108 | D27: =SUM(D20,D24)*18 -> 108 | E27: =SUM(E20,E24) -> 204
A28: ІХ | B28: Часове на основание чл.29, ал. 1 и ал. 2 от ЗПУО
A29: 1 | B29: Час на класа | C29: 0 | D29: 0 | E29: =((C29*$C$4-C31))+((D29*$D$4)-D31) -> 0
A30: 2 | B30: Модул за осъществяване на спортни дейности - лека атлетика | C30: 0 | D30: 0 | E30: =(C30*$C$4)+(D30*$D$4) -> 0
A31: 3 | B31: Безопасност на движението по пътищата... | C31: 0 | D31: 0 | E31: =SUM(C31:D31) -> 0

Sheet 5 клас
A1: ІІ | B1: РАЗПРЕДЕЛЕНИЕ НА ПРЕДМЕТИТЕ И ЧАСОВЕТЕ:
A2: V клас учебната 2025/2026 година
A3: № | B3: Видове подготовка, учебни предмети/ модули | C3: брой учебни седмици | E3: годишен брой часове
C4: 18 | D4: 16
C5: седмичен брой часове
A6: 1 | B6: 2 | C6: 3 | D6: 4 | E6: 6
A7: Раздел А - задължителни учебни часове
A8: І | B8: Общообразователна подготовка
A9: 1 | B9: Български език и литература | C9: 5 | D9: 6 | E9: =((C9+D9)/2)*($C$4+$D$4) -> 187
A10: 2 | B10: Чужд език - Английски език | C10: 3 | D10: 3 | E10: =(C10*$C$4)+(D10*$D$4) -> 102
A11: 3 | B11: Математика | C11: 5 | D11: 5 | E11: =(C11*$C$4)+(D11*$D$4) -> 170
A12: 4 | B12: Компютърно моделиране и информационни технологии | C12: 1 | D12: 2 | E12: =((C12+D12)/2)*($C$4+$D$4) -> 51
A13: 5 | B13: История и цивилизации | C13: 2 | D13: 2 | E13: =(C13*$C$4)+(D13*$D$4) -> 68
A14: 6 | B14: География и икономика | C14: 2 | D14: 2 | E14: =(C14*$C$4)+(D14*$D$4) -> 68
A15: 7 | B15: Човекът и природата | C15: 3 | D15: 2 | E15: =((C15+D15)/2)*($C$4+$D$4) -> 85
A16: 8 | B16: Музика | C16: 2 | D16: 2 | E16: =((C16+D16)/2)*($C$4+$D$4) -> 68
A17: 9 | B17: Изобразително изкуство | C17: 2 | D17: 2 | E17: =((C17+D17)/2)*($C$4+$D$4) -> 68
A18: 10 | B18: Технологии и предприемачество | C18: 2 | D18: 1 | E18: =((C18+D18)/2)*($C$4+$D$4) -> 51
A19: 11 | B19: Физическо възпитание и спорт | C19: 2 | D19: 3 | E19: =((C19+D19)/2)*($C$4+$D$4) -> 85
C20: =SUM(C9:C19) -> 29 | D20: =SUM(D9:D19) -> 30 | E20: =SUM(E9:E19) -> 1003
B21: Общо за Раздел А | C21: =SUM(C9:C19) -> 29 | D21: =SUM(D9:D19) -> 30 | E21: =SUM(E9:E19) -> 1003
A22: Раздел Б - задължителни учебни часове
A23: 1 | B23: Български език и литература | C23: 1 | D23: 1 | E23: =((C23+D23)/2)*($C$4+$D$4) -> 34
A24: 2 | B24: Хореография | C24: 2 | D24: 1 | E24: =((C24+D24)/2)*($C$4+$D$4) -> 51
A25: Общо за Раздел Б | C25: =SUM(C23:C24) -> 3 | D25: =SUM(D23:D24) -> 2 | E25: =SUM(E23:E24) -> 85
A26: Раздел В - факултативни учебни часове
A27: Общо за Раздел А+Раздел Б+Раздел В | C27: =SUM(C21,C25) -> 32 | D27: =SUM(D21,D25) -> 32
C28: =SUM(C21,C25)*18 -> 576 | D28: =SUM(D21,D25)*18 -> 576 | E28: =SUM(E21,E25) -> 1088
A29: ІХ | B29: Часове на основание чл.29, ал. 1 и ал. 2 от ЗПУО
A30: 1 | B30: Час на класа | C30: 1 | D30: 1 | E30: =((C30*$C$4)-3)+((D30*$D$4)-2) -> 29
A31: 2 | B31: Модул за осъществяване на спортни дейности - футбол | C31: 1 | D31: 1 | E31: =(C31*$C$4)+(D31*$D$4) -> 34
A32: 3 | B32: Безопасност на движението по пътищата... | C32: 4 | D32: 3 | E32: =SUM(C32:D32) -> 7

Sheet 6 клас 
A1: ІІ | B1: РАЗПРЕДЕЛЕНИЕ НА ПРЕДМЕТИТЕ И ЧАСОВЕТЕ:
A2: VІ клас учебната 2025/2026 година
A3: № | B3: Видове подготовка, учебни предмети/ модули | C3: брой учебни седмици | E3: годишен брой часове
C4: 18 | D4: 16
C5: седмичен брой часове
A6: 1 | B6: 2 | C6: 3 | D6: 4 | E6: 6
A7: Раздел А - задължителни учебни часове
A8: І | B8: Общообразователна подготовка
A9: 1 | B9: Български език и литература | C9: 5 | D9: 6 | E9: =((C9+D9)/2)*($C$4+$D$4) -> 187
A10: 2 | B10: Чужд език - Английски език | C10: 3 | D10: 3 | E10: =(C10*$C$4)+(D10*$D$4) -> 102
A11: 3 | B11: Математика | C11: 5 | D11: 5 | E11: =(C11*$C$4)+(D11*$D$4) -> 170
A12: 4 | B12: Компютърно моделиране и информационни технологии | C12: 2 | D12: 1 | E12: =((C12+D12)/2)*($C$4+$D$4) -> 51
A13: 5 | B13: История и цивилизации | C13: 2 | D13: 2 | E13: =(C13*$C$4)+(D13*$D$4) -> 68
A14: 6 | B14: География и икономика | C14: 2 | D14: 2 | E14: =(C14*$C$4)+(D14*$D$4) -> 68
A15: 7 | B15: Човекът и природата | C15: 2 | D15: 3 | E15: =((C15+D15)/2)*($C$4+$D$4) -> 85
A16: 8 | B16: Музика | C16: 2 | D16: 2 | E16: =((C16+D16)/2)*($C$4+$D$4) -> 68
A17: 9 | B17: Изобразително изкуство | C17: 2 | D17: 2 | E17: =((C17+D17)/2)*($C$4+$D$4) -> 68
A18: 10 | B18: Технологии и предприемачество | C18: 2 | D18: 1 | E18: =((C18+D18)/2)*($C$4+$D$4) -> 51
A19: 11 | B19: Физическо възпитание и спорт | C19: 3 | D19: 2 | E19: =((C19+D19)/2)*($C$4+$D$4) -> 85
C20: =SUM(C9:C19) -> 30 | D20: =SUM(D9:D19) -> 29 | E20: =SUM(E9:E19) -> 1003
B21: Общо за Раздел А | C21: =SUM(C9:C19) -> 30 | D21: =SUM(D9:D19) -> 29 | E21: =SUM(E9:E19) -> 1003
A22: Раздел Б - задължителни учебни часове
A23: 1 | B23: Български език и литература | C23: 1 | D23: 2 | E23: =((C23+D23)/2)*($C$4+$D$4) -> 51
A24: 2 | B24: Хореография | C24: 1 | D24: 1 | E24: =((C24+D24)/2)*($C$4+$D$4) -> 34
A25: Общо за Раздел Б | C25: =SUM(C23:C24) -> 2 | D25: =SUM(D23:D24) -> 3 | E25: =SUM(E23:E24) -> 85
A26: Раздел В - факултативни учебни часове
A27: Общо за Раздел А+Раздел Б+Раздел В | C27: =SUM(C21,C25) -> 32 | D27: =SUM(D21,D25) -> 32
C28: =SUM(C21,C25)*18 -> 576 | D28: =SUM(D21,D25)*18 -> 576 | E28: =SUM(E21,E25) -> 1088
A29: ІХ | B29: Часове на основание чл.29, ал. 1 и ал. 2 от ЗПУО
A30: 1 | B30: Час на класа | C30: 1 | D30: 1 | E30: =((C30*$C$4)-3)+((D30*$D$4)-2) -> 29
A31: 2 | B31: Модул за осъществяване на спортни дейности - футбол | C31: 1 | D31: 1 | E31: =(C31*$C$4)+(D31*$D$4) -> 34
A32: 3 | B32: Безопасност на движението по пътищата... | C32: 4 | D32: 3 | E32: =SUM(C32:D32) -> 7

Sheet 7 клас 
A1: ІІ | B1: РАЗПРЕДЕЛЕНИЕ НА ПРЕДМЕТИТЕ И ЧАСОВЕТЕ:
A2: VІІ клас учебната 2025/2026 година
A3: № | B3: Видове подготовка, учебни предмети/ модули | C3: брой учебни седмици | E3: годишен брой часове
C4: 18 | D4: 18
C5: седмичен брой часове
A6: 1 | B6: 2 | C6: 3 | D6: 4 | E6: 6
A7: Раздел А - задължителни учебни часове
A8: І | B8: Общообразователна подготовка
A9: 1 | B9: Български език и литература | C9: 5 | D9: 5 | E9: =((C9+D9)/2)*($C$4+$D$4) -> 180
A10: 2 | B10: Чужд език - Английски език | C10: 3 | D10: 3 | E10: =(C10*$C$4)+(D10*$D$4) -> 108
A11: 3 | B11: Математика | C11: 5 | D11: 5 | E11: =(C11*$C$4)+(D11*$D$4) -> 180
A12: 4 | B12: Компютърно моделиране и информационни технологии | C12: 1 | D12: 2 | E12: =((C12+D12)/2)*($C$4+$D$4) -> 54
A13: 5 | B13: История и цивилизации | C13: 2 | D13: 2 | E13: =(C13*$C$4)+(D13*$D$4) -> 72
A14: 6 | B14: География и икономика | C14: 2 | D14: 2 | E14: =(C14*$C$4)+(D14*$D$4) -> 72
A15: 7 | B15: Биология и здравно образование | C15: 2 | D15: 2 | E15: =((C15+D15)/2)*($C$4+$D$4) -> 72
A16: 8 | B16: Физика и астрономия | C16: 2 | D16: 1 | E16: =((C16+D16)/2)*($C$4+$D$4) -> 54
A17: 9 | B17: Химия и опазване на околната среда | C17: 2 | D17: 1 | E17: =((C17+D17)/2)*($C$4+$D$4) -> 54
A18: 10 | B18: Музика | C18: 2 | D18: 1 | E18: =((C18+D18)/2)*($C$4+$D$4) -> 54
A19: 11 | B19: Изобразително изкуство | C19: 1 | D19: 2 | E19: =((C19+D19)/2)*($C$4+$D$4) -> 54
A20: 12 | B20: Технологии и предприемачество | C20: 1 | D20: 1 | E20: =((C20+D20)/2)*($C$4+$D$4) -> 36
A21: 13 | B21: Физическо възпитание и спорт | C21: 2 | D21: 2 | E21: =((C21+D21)/2)*($C$4+$D$4) -> 72
C22: =SUM(C9:C21) -> 30 | D22: =SUM(D9:D21) -> 29 | E22: =SUM(E9:E21) -> 1062
B23: Общо за Раздел А | C23: =SUM(C9:C21) -> 30 | D23: =SUM(D9:D21) -> 29 | E23: =SUM(E9:E21) -> 1062
A24: Раздел Б - задължителни учебни часове
A25: 1 | B25: Български език и литература | C25: 1 | D25: 2 | E25: =((C25+D25)/2)*($C$4+$D$4) -> 54
A26: 3 | B26: Хореография | C26: 1 | D26: 1 | E26: =(C26*$C$4)+(D26*$D$4) -> 36
A27: Общо за Раздел Б | C27: =SUM(C25:C26) -> 2 | D27: =SUM(D25:D26) -> 3 | E27: =SUM(E25:E26) -> 90
A28: Раздел В - факултативни учебни часове
A29: Общо за Раздел А+Раздел Б+Раздел В | C29: =SUM(C23,C27) -> 32 | D29: =SUM(D23,D27) -> 32
C30: =SUM(C23,C27)*18 -> 576 | D30: =SUM(D23,D27)*18 -> 576 | E30: =SUM(E23,E27) -> 1152
A31: ІI | B31: Часове на основание чл.29, ал. 1 и ал. 2 от ЗПУО
A32: 1 | B32: Час на класа | C32: 1 | D32: 1 | E32: =((C32*$C$4)-3)+((D32*$D$4)-2) -> 31
A33: 2 | B33: Модул за осъществяване на спортни дейности - футбол | C33: 1 | D33: 1 | E33: =(C33*$D$4)+(D33*$D$4) -> 36
A34: 3 | B34: Безопасност на движението по пътищата... | C34: 4 | D34: 3 | E34: =SUM(C34:D34) -> 7

Sheet 8 клас_ЕМА (ИУП)
A1: ІІ | B1: РАЗПРЕДЕЛЕНИЕ НА ПРЕДМЕТИТЕ И ЧАСОВЕТЕ:
A2: VІІІ клас - 5220101 учебната 2025/2026 година В6 3спк
A3: № | B3: Видове подготовка, учебни предмети/ модули | C3: брой учебни седмици | E3: годишен брой часове
C4: 18 | D4: 18
C5: седмичен брой часове
A6: 1 | B6: 2 | C6: 3 | D6: 4 | E6: 6
A7: Раздел А - задължителни учебни часове
A8: І | B8: Общообразователна подготовка
A9: 1 | B9: Български език и литература | C9: 2 | D9: 2 | E9: =(C9*$C$4)+(D9*$D$4) -> 72
A10: 2 | B10: Чужд език - Немски език | C10: 0 | D10: 0 | E10: =(C10*$C$4)+(D10*$D$4) -> 0
A11: 3 | B11: Математика | C11: 1 | D11: 1 | E11: =(C11*$C$4)+(D11*$D$4) -> 36
A12: 4 | B12: Информационни технологии | C12: 1 | D12: 1 | E12: =(C12*$C$4)+(D12*$D$4) -> 36
A13: 5 | B13: История и цивилизации | C13: 1 | D13: 1 | E13: =(C13*$C$4)+(D13*$D$4) -> 36
A14: 6 | B14: География и икономика | C14: 1 | D14: 1 | E14: =(C14*$C$4)+(D14*$D$4) -> 36
A15: 7 | B15: Философия | C15: 0 | D15: 0 | E15: =(C15*$C$4)+(D15*$D$4) -> 0
A16: 8 | B16: Биология и здравно образование | C16: 1 | D16: 1 | E16: =(C16*$C$4)+(D16*$D$4) -> 36
A17: 9 | B17: Физика и астрономия | C17: 0 | D17: 1 | E17: =(C17*$C$4)+(D17*$D$4) -> 18
A18: 10 | B18: Химия и опазване на околната среда | C18: 0 | D18: 0 | E18: =(C18*$C$4)+(D18*$D$4) -> 0
A19: 11 | B19: Музика | C19: 1 | D19: 0 | E19: =(C19*$C$4)+(D19*$D$4) -> 18 | J19: =306*15 -> 4590
A20: 12 | B20: Изобразително изкуство | C20: 0 | D20: 1 | E20: =(C20*$C$4)+(D20*$D$4) -> 18
A21: 13 | B21: Физическо възпитание и спорт | C21: 0 | D21: 0 | E21: =(C21*$C$4)+(D21*$D$4) -> 0
C22: =SUM(C9:C21) -> 8 | D22: =SUM(D9:D21) -> 9 | E22: =SUM(E9:E21) -> 306
A23: ІІ | B23: Обща професионална подготовка
A24: 1 | B24: Предприемачество | C24: 1 | D24: 0 | E24: =(C24*$C$4)+(D24*$D$4) -> 18
B25: Общо за Раздел А | C25: =SUM(C9:C21,C24) -> 9 | D25: =SUM(D22,D24) -> 9 | E25: =SUM(E22,E24) -> 324
A26: Раздел Б - задължителни учебни часове
A27: ІІІ | B27: Отраслова професионална подготовка
B28: Техническа механика | C28: 0 | D28: 1 | E28: =(C28*$C$4)+(D28*$D$4) -> 18
B29: Материалознание | C29: 1 | E29: =(C29*$C$4)+(D29*$D$4) -> 18
A30: ІV | B30: Специфична професионална подготовка
A31: 1 | B31: Теория на професията
A32: 2 | B32: Учебна практика
A33: V | B33: Разширена професионална подготовка
A34: 1 | B34: Техническа механика | D34: 1 | E34: =(C34*$C$4)+(D34*$D$4) -> 18
A35: 2 | B35: Материалознание | C35: 1 | D35: 0 | E35: =(C35*$C$4)+(D35*$D$4) -> 18
A36: 3 | B36: Електрически измервания | C36: 1 | D36: 1 | E36: =(C36*$C$4)+(D36*$D$4) -> 36
A37: 4 | B37: Учебна практика - електрически измервания | C37: 1 | D37: 1 | E37: =(C37*$C$4)+(D37*$D$4) -> 36
C38: =SUM(C34:C37) -> 3 | D38: =SUM(D34:D37) -> 3 | E38: =SUM(E34:E37) -> 108
A39: VІ | B39: Разширена подготовка
A41: Общо за Раздел Б | C41: =SUM(C28:C29,C34:C37) -> 4 | D41: =SUM(D28:D29,D34:D37) -> 4 | E41: =(C41*$C$4)+(D41*$D$4) -> 144
A42: Раздел В - факултативни учебни часове
A43: VІІ | B43: Допълнителна подготовка
A44: Общо за Раздел А+Раздел Б+Раздел В | C44: =SUM(C25,C41) -> 13 | D44: =SUM(D25,D41) -> 13
C45: =SUM(C25,C41)*18 -> 234 | D45: =SUM(D25,D41)*18 -> 234 | E45: =SUM(E25,E41) -> 468
A46: ІХ | B46: Часове на основание чл.29, ал. 1 и ал. 2 от ЗПУО
A47: 1 | B47: Час на класа
A48: 2 | B48: Модул за осъществяване на спортни дейности - волейбол
A49: 3 | B49: Безопасност на движението по пътищата... | C49: 2 | D49: 2 | E49: 4

Sheet 8 клас_ЕМА
A1: ІІ | B1: РАЗПРЕДЕЛЕНИЕ НА ПРЕДМЕТИТЕ И ЧАСОВЕТЕ:
A2: VІІІ клас - 5220101 учебната 2025/2026 година В6 3спк
A3: № | B3: Видове подготовка, учебни предмети/ модули | C3: брой учебни седмици | E3: годишен брой часове
C4: 18 | D4: 18
C5: седмичен брой часове
A6: 1 | B6: 2 | C6: 3 | D6: 4 | E6: 6
A7: Раздел А - задължителни учебни часове
A8: І | B8: Общообразователна подготовка
A9: 1 | B9: Български език и литература | C9: 4 | D9: 4 | E9: =(C9*$D$4)+(D9*$D$4) -> 144
A10: 2 | B10: Чужд език - Немски език | C10: 4 | D10: 4 | E10: =(C10*$D$4)+(D10*$D$4) -> 144
A11: 3 | B11: Математика | C11: 3 | D11: 3 | E11: =(C11*$D$4)+(D11*$D$4) -> 108
A12: 4 | B12: Информационни технологии | C12: 1 | D12: 1 | E12: =(C12*$D$4)+(D12*$D$4) -> 36
A13: 5 | B13: История и цивилизации | C13: 2 | D13: 2 | E13: =(C13*$D$4)+(D13*$D$4) -> 72
A14: 6 | B14: География и икономика | C14: 1 | D14: 1 | E14: =(C14*$D$4)+(D14*$D$4) -> 36
A15: 7 | B15: Философия | C15: 1 | D15: 1 | E15: =(C15*$D$4)+(D15*$D$4) -> 36
A16: 8 | B16: Биология и здравно образование | C16: 1 | D16: 2 | E16: =(C16*$D$4)+(D16*$D$4) -> 54
A17: 9 | B17: Физика и астрономия | C17: 2 | D17: 1 | E17: =(C17*$D$4)+(D17*$D$4) -> 54
A18: 10 | B18: Химия и опазване на околната среда | C18: 1 | D18: 1 | E18: =(C18*$D$4)+(D18*$D$4) -> 36
A19: 11 | B19: Музика | C19: 1 | D19: 0 | E19: =(C19*$D$4)+(D19*$D$4) -> 18 | J19: =306*15 -> 4590
A20: 12 | B20: Изобразително изкуство | C20: 0 | D20: 1 | E20: =(C20*$D$4)+(D20*$D$4) -> 18
A21: 13 | B21: Физическо възпитание и спорт | C21: 2 | D21: 2 | E21: =(C21*$D$4)+(D21*$D$4) -> 72
C22: =SUM(C9:C21) -> 23 | D22: =SUM(D9:D21) -> 23 | E22: =SUM(E9:E21) -> 828
A23: ІІ | B23: Обща професионална подготовка
A24: 1 | B24: Предприемачество | C24: 1 | D24: 1 | E24: =(C24*$C$4)+(D24*$D$4) -> 36
B25: Общо за Раздел А | C25: =SUM(C9:C21,C24) -> 24 | D25: =SUM(D22,D24) -> 24 | E25: =SUM(E22,E24) -> 864
A26: Раздел Б - задължителни учебни часове
A27: ІІІ | B27: Отраслова професионална подготовка
B28: Техническа механика | C28: 0 | D28: 1 | E28: =(C28*$D$4)+(D28*$D$4) -> 18
B29: Материалознание | C29: 1 | D29: 0 | E29: =(C29*$D$4)+(D29*$D$4) -> 18
A30: ІV | B30: Специфична професионална подготовка
A31: 1 | B31: Теория на професията
A32: 2 | B32: Учебна практика
A33: V | B33: Разширена професионална подготовка
A34: 1 | B34: Техническа механика | C34: 0 | D34: 2 | E34: =(C34*$D$4)+(D34*$D$4) -> 36
A35: 2 | B35: Материалознание | C35: 2 | D35: 0 | E35: =(C35*$D$4)+(D35*$D$4) -> 36
A36: 3 | B36: Електрически измервания | C36: 2 | D36: 2 | E36: =(C36*$D$4)+(D36*$D$4) -> 72
A37: 4 | B37: Учебна практика - електрически измервания | C37: 3 | D37: 3 | E37: =(C37*$D$4)+(D37*$D$4) -> 108
C38: =SUM(C34:C37) -> 7 | D38: =SUM(D34:D37) -> 7 | E38: =SUM(E34:E37) -> 252
A39: VІ | B39: Разширена подготовка
A41: Общо за Раздел Б | C41: =SUM(C28:C29,C34:C37) -> 8 | D41: =SUM(D28:D29,D34:D37) -> 8 | E41: =(C41*$D$4)+(D41*$D$4) -> 288
A42: Раздел В - факултативни учебни часове
A43: VІІ | B43: Допълнителна подготовка
A44: Общо за Раздел А+Раздел Б+Раздел В | C44: =SUM(C25,C41) -> 32 | D44: =SUM(D25,D41) -> 32
C45: =SUM(C25,C41)*18 -> 576 | D45: =SUM(D25,D41)*18 -> 576 | E45: =SUM(E25,E41) -> 1152
A46: ІХ | B46: Часове на основание чл.29, ал. 1 и ал. 2 от ЗПУО
A47: 1 | B47: Час на класа | C47: 1 | D47: 1 | E47: =((C47*$C$4)+(D47*$D$4))-E49 -> 30
A48: 2 | B48: Модул за осъществяване на спортни дейности - волейбол | C48: 1 | D48: 1 | E48: =(C48*$D$4)+(D48*$D$4) -> 36
A49: 3 | B49: Безопасност на движението по пътищата... | C49: 3 | D49: 3 | E49: =SUM(C49:D49) -> 6

Sheet 9 клас_тЛВ
A1: ІІ | B1: РАЗПРЕДЕЛЕНИЕ НА ПРЕДМЕТИТЕ И ЧАСОВЕТЕ:
A2: IX клас - 6210201 учебната 2025/2026 година В6 3спк
A3: № | B3: Видове подготовка, учебни предмети/ модули | C3: брой учебни седмици | E3: годишен брой часове
C4: 18 | D4: 18
C5: седмичен брой часове
A6: 1 | B6: 2 | C6: 3 | D6: 4 | E6: 6
A7: Раздел А - задължителни учебни часове
A8: І | B8: Общообразователна подготовка
A9: 1 | B9: Български език и литература | C9: 3 | D9: 3 | E9: =(C9*$D$4)+(D9*$D$4) -> 108
A10: 2 | B10: Чужд език - Немски език | C10: 2 | D10: 2 | E10: =(C10*$D$4)+(D10*$D$4) -> 72
A11: 3 | B11: Чужд език - Английски език | C11: 2 | D11: 2 | E11: =(C11*$D$4)+(D11*$D$4) -> 72
A12: 4 | B12: Математика | C12: 3 | D12: 3 | E12: =(C12*$D$4)+(D12*$D$4) -> 108
A13: 5 | B13: Информационни технологии | C13: 1 | D13: 1 | E13: =(C13*$D$4)+(D13*$D$4) -> 36
A14: 6 | B14: История и цивилизации | C14: 2 | D14: 2 | E14: =(C14*$D$4)+(D14*$D$4) -> 72
A15: 7 | B15: География и икономика | C15: 1 | D15: 1 | E15: =(C15*$D$4)+(D15*$D$4) -> 36
A16: 8 | B16: Философия | C16: 1 | D16: 1 | E16: =(C16*$D$4)+(D16*$D$4) -> 36
A17: 9 | B17: Биология и здравно образование | C17: 1 | D17: 1 | E17: =(C17*$D$4)+(D17*$D$4) -> 36
A18: 10 | B18: Физика и астрономия | C18: 1 | D18: 1 | E18: =(C18*$D$4)+(D18*$D$4) -> 36
A19: 11 | B19: Химия и опазване на околната среда | C19: 1 | D19: 2 | E19: =(C19*$D$4)+(D19*$D$4) -> 54
A20: 12 | B20: Музика | C20: 1 | D20: 0 | E20: =(C20*$D$4)+(D20*$D$4) -> 18
... A22: 14 | B22: Физическо възпитание и спорт | C22: 2 | D22: 2 | E22: =(C22*$D$4)+(D22*$D$4) -> 72
C23: =SUM(C9:C22) -> 21 | D23: =SUM(D9:D22) -> 22 | E23: =SUM(E9:E22) -> 774
A24: ІІ | B24: Обща професионална подготовка
A25: 1 | B25: Здравосливни и безопасни условия на труд | C25: 1 | D25: 0 | E25: =(C25*$C$4)+(D25*$D$4) -> 18
B26: Общо за Раздел А | C26: =SUM(C9:C22,C25) -> 22 | D26: =SUM(D23,D25) -> 22 | E26: =SUM(E23,E25) -> 792
A27: Раздел Б - задължителни учебни часове
A28: ІІІ | B28: Отраслова професионална подготовка
A29: ІV | B29: Специфична професионална подготовка
A30: 1 | B30: Теория на професията
A31: 1.1. | B31: Почвознание | C31: 1 | D31: 0 | E31: =(C31*$C$4)+(D31*$D$4) -> 18
A32: 1.2. | B32: Ботаника | C32: 0 | D32: 1 | E32: =(C32*$C$4)+(D32*$D$4) -> 18
A33: 2 | B33: Учебна практика
A34: 2.1. | B34: Почвознание | C34: 1 | D34: 0 | E34: =(C34*$C$4)+(D34*$D$4) -> 18
A35: 2.2. | B35: Ботаника | C35: 0 | D35: 1 | E35: =(C35*$C$4)+(D35*$D$4) -> 18
A36: V | B36: Разширена професионална подготовка
A37: 1 | B37: Лозарство | C37: 2 | D37: 2 | E37: =(C37*$C$4)+(D37*$D$4) -> 72
A38: 2 | B38: Ботаника | C38: 2 | D38: 2 | E38: =(C38*$C$4)+(D38*$D$4) -> 72
A39: 3 | B39: Учебна практика - Лозарство | C39: 2 | D39: 2 | E39: =(C39*$C$4)+(D39*$D$4) -> 72
A40: 4 | B40: Учебна практика - Ботаника | C40: 2 | D40: 2 | E40: =(C40*$C$4)+(D40*$D$4) -> 72
C41: =SUM(C37:C40) -> 8 | D41: =SUM(D37:D40) -> 8 | E41: =SUM(E37:E40) -> 288
A42: VІ | B42: Разширена подготовка
A43: Общо за Раздел Б | C43: =SUM(C31:C32,C34:C35,C37:C40) -> 10 | D43: =SUM(D31:D32,D34:D35,D37:D40) -> 10 | E43: =(C43*$D$4)+(D43*$D$4) -> 360
A44: Раздел В - факултативни учебни часове
A45: VІІ | B45: Допълнителна подготовка
A46: Общо за Раздел А+Раздел Б+Раздел В | C46: =SUM(C26,C43) -> 32 | D46: =SUM(D26,D43) -> 32
C47: =SUM(C26,C43)*18 -> 576 | D47: =SUM(D26,D43)*18 -> 576 | E47: =SUM(E26,E43) -> 1152
A48: ІХ | B48: Часове на основание чл.29, ал. 1 и ал. 2 от ЗПУО
A49: 1 | B49: Час на класа | C49: 1 | D49: 1 | E49: =((C49*$C$4)+(D49*$D$4))-E51 -> 30
A50: 2 | B50: Модул за осъществяване на спортни дейности - волейбол | C50: 1 | D50: 1 | E50: =(C50*$D$4)+(D50*$D$4) -> 36
A51: 3 | B51: Безопасност на движението по пътищата... | C51: 3 | D51: 3 | E51: =SUM(C51:D51) -> 6

Sheet 10 клас_ХС
A1: ІІ | B1: РАЗПРЕДЕЛЕНИЕ НА ПРЕДМЕТИТЕ И ЧАСОВЕТЕ:
A2: X клас - 5410301 учебната 2025/2026 година В5
A3: № | B3: Видове подготовка, учебни предмети/ модули | C3: брой учебни седмици | F3: годишен брой часове
C4: 18 | D4: 18 | E4: 2
C5: седмичен брой часове
A6: 1 | B6: 2 | C6: 3 | D6: 4 | F6: 6
A7: Раздел А - задължителни учебни часове
A8: І | B8: Общообразователна подготовка
A9: 1 | B9: Български език и литература | C9: 3 | D9: 3 | F9: =(C9*$D$4)+(D9*$D$4) -> 108
A10: 2 | B10: Чужд език - Немски език | C10: 2 | D10: 2 | F10: =(C10*$D$4)+(D10*$D$4) -> 72
A11: 3 | B11: Чужд език - Английски език | C11: 2 | D11: 2 | F11: =(C11*$D$4)+(D11*$D$4) -> 72
A12: 4 | B12: Математика | C12: 2 | D12: 2 | F12: =(C12*$D$4)+(D12*$D$4) -> 72
A13: 5 | B13: Информационни технологии | C13: 0 | D13: 1 | F13: =(C13*$D$4)+(D13*$D$4) -> 18
A14: 6 | B14: История и цивилизации | C14: 4 | D14: 3 | F14: =(C14*$D$4)+(D14*$D$4) -> 126
A15: 7 | B15: География и икономика | C15: 2 | D15: 3 | F15: =(C15*$D$4)+(D15*$D$4) -> 90
A16: 8 | B16: Философия | C16: 2 | D16: 2 | F16: =(C16*$D$4)+(D16*$D$4) -> 72
A17: 9 | B17: Биология и здравно образование | C17: 2 | D17: 2 | F17: =(C17*$D$4)+(D17*$D$4) -> 72
A18: 10 | B18: Физика и астрономия | C18: 2 | D18: 2 | F18: =(C18*$D$4)+(D18*$D$4) -> 72
A19: 11 | B19: Химия и опазване на околната среда | C19: 2 | D19: 2 | F19: =(C19*$D$4)+(D19*$D$4) -> 72
A20: 12 | B20: Музика | C20: 1 | D20: 0 | F20: =(C20*$D$4)+(D20*$D$4) -> 18
... A22: 14 | B22: Физическо възпитание и спорт | C22: 2 | D22: 2 | F22: =(C22*$D$4)+(D22*$D$4) -> 72
C23: =SUM(C9:C22) -> 26 | D23: =SUM(D9:D22) -> 27 | F23: =SUM(F9:F22) -> 954
A24: ІІ | B24: Обща професионална подготовка
A25: 1 | B25: Икономика | C25: 1 | D25: 1 | F25: =(C25*$C$4)+(D25*$D$4) -> 36
B26: Общо за Раздел А | C26: =SUM(C9:C22,C25) -> 27 | D26: =SUM(D23,D25) -> 28 | F26: =SUM(F23,F25) -> 990
A27: Раздел Б - задължителни учебни часове
A28: ІІІ | B28: Отраслова професионална подготовка
A29: ІV | B29: Специфична професионална подготовка
A30: 1 | B30: Теория на професията
A31: 2 | B31: Учебна практика
A32: 2.1 | B32: - по специалността | C32: 4 | D32: 3 | F32: =(C32*$D$4)+(D32*$D$4) -> 126
A33: 2.2 | B33: Производствена практика | E33: 32 | F33: =(C33*$D$4)+(D33*$D$4)+(E33*$E$4) -> 64
A34: V | B34: Разширена професионална подготовка
A35: 1 | B35: Приложна декорация | C35: 1 | D35: 1 | F35: =(C35*$C$4)+(D35*$D$4) -> 36
C36: =SUM(C35:C35) -> 1 | D36: =SUM(D35:D35) -> 1 | F36: =SUM(F32:F33,F35) -> 226
A37: VІ | B37: Разширена подготовка
A38: Общо за Раздел Б | C38: =SUM(C32:C33,C35) -> 5 | D38: =SUM(D32:D33,D35) -> 4 | F38: =(C38*$C$4)+(D38*$D$4) -> 162
A39: Раздел В - факултативни учебни часове
A40: VІІ | B40: Допълнителна подготовка
A41: Общо за Раздел А+Раздел Б+Раздел В | C41: =SUM(C26,C38) -> 32 | D41: =SUM(D26,D38) -> 32
C42: =SUM(C26,C38)*18 -> 576 | D42: =SUM(D26,D38)*18 -> 576 | F42: =SUM(F26,F38) -> 1152
A43: ІХ | B43: Часове на основание чл.29, ал. 1 и ал. 2 от ЗПУО
A44: 1 | B44: Час на класа | C44: 1 | D44: 1 | F44: =((C44*$C$4)+(D44*$D$4))-F46 -> 30
A45: 2 | B45: Модул за осъществяване на спортни дейности - волейбол | C45: 1 | D45: 1 | F45: =(C45*$D$4)+(D45*$D$4) -> 36
A46: 3 | B46: Безопасност на движението по пътищата... | C46: 3 | D46: 3 | F46: =SUM(C46:D46) -> 6

Sheet 11 клас_тЛВ 
A1: ІІ | B1: РАЗПРЕДЕЛЕНИЕ НА ПРЕДМЕТИТЕ И ЧАСОВЕТЕ:
A2: ХI клас - 6210201 учебната 2025/2026 година - техник 3спк в6
A3: № | B3: Видове подготовка, учебни предмети/ модули | C3: брой учебни седмици | F3: годишен брой часове
C4: 18 | D4: 18 | E4: 2
C5: седмичен брой часове
A6: 1 | B6: 2 | C6: 3 | D6: 4 | E6: 5 | F6: 6
A7: Раздел А - задължителни учебни часове
A8: І | B8: Общообразователна подготовка
A9: 1 | B9: Български език и литература | C9: 3 | D9: 3 | F9: =(C9*$D$4)+(D9*$D$4) -> 108
A10: 2 | B10: Чужд език - Английски език | C10: 2 | D10: 2 | F10: =(C10*$D$4)+(D10*$D$4) -> 72
A11: 3 | B11: Математика | C11: 2 | D11: 2 | F11: =(C11*$D$4)+(D11*$D$4) -> 72
A12: 4 | B12: Гражданско образование | C12: 1 | D12: 1 | F12: =(C12*$D$4)+(D12*$D$4) -> 36
A13: 5 | B13: Физическо възпитание и спорт | C13: 2 | D13: 2 | F13: =(C13*$D$4)+(D13*$D$4) -> 72
C14: =SUM(C9:C13) -> 10 | D14: =SUM(D9:D13) -> 10 | F14: =SUM(F9:F13) -> 360
A15: ІІ | B15: Обща професионална подготовка
A16: 1 | B16: Чужд език по професията - Немски език | C16: 2 | D16: 2 | F16: =(C16*$D$4)+(D16*$D$4) -> 72
B17: Общо за Раздел А | C17: =SUM(C14,C16) -> 12 | D17: =SUM(D14,D16) -> 12 | F17: =SUM(F9:F13,F16) -> 432
A18: Раздел Б - задължителни учебни часове
A19: ІІІ | B19: Отраслова професионална подготовка
A20: 1 | B20: Теория на професията
A21: 1.1 | B21: Безопасност на движението | C21: 1 | D21: 1 | F21: =(C21*$D$4)+(D21*$D$4) -> 36
A22: 1.2 | B22: Управление на моторна превозно средство | C22: 1 | D22: 1 | F22: =(C22*2)+(D22*$D$4) -> 20
A23: 2 | B23: Практика на професията
A24: ІV | B24: Специфична професионална подготовка
A25: 1 | B25: Теория на професията
A26: 1.1. | B26: Лозарство | C26: 3 | D26: 2 | F26: =(C26*$D$4)+(D26*$D$4) -> 90
A27: 1.2 | B27: Машини в лозарството | C27: 1 | D27: 1 | F27: =(C27*$D$4)+(D27*$D$4) -> 36
A28: 1.3 | B28: Технология на винопроизводството | C28: 2 | D28: 3 | F28: =(C28*$D$4)+(D28*$D$4) -> 90
A29: 1.4 | B29: Машини във винопроизводството | C29: 2 | D29: 2 | F29: =(C29*$D$4)+(D29*$D$4) -> 72
A30: 1.5 | B30: Микробиология | C30: 1 | D30: 1 | F30: =(C30*$D$4)+(D30*$D$4) -> 36
A31: 2 | B31: Практика на професията
A32: 2.1 | B32: Учебна практика
A33: 2.1.1 | B33: Лозарство | C33: 2 | D33: 3 | F33: =(C33*$D$4)+(D33*$D$4) -> 90
A34: 2.1.2 | B34: Машини в лозарството | C34: 2 | D34: 2 | F34: =(C34*$D$4)+(D34*$D$4) -> 72
A35: 2.1.3 | B35: Технология на винопроизводството | C35: 3 | D35: 2 | F35: =(C35*$D$4)+(D35*$D$4) -> 90
A36: 2.1.4 | B36: Работа с машинно-тракторни агрегати | C36: 1 | D36: 0 | F36: =(C36*16)+(D36*$D$4) -> 16
A37: 2.2 | B37: Производствена практика | E37: 32 | F37: =(C37*$D$4)+(D37*$D$4)+(E37*$E$4) -> 64
A38: V | B38: Разширена професионална подготовка
A39: 1 | B39: Машини в лозарството | C39: 1 | D39: 1 | F39: =(C39*$D$4)+(D39*$D$4) -> 36
A40: 2 | B40: Работа с машинно-тракторни агрегати | C40: 1 | D40: 1 | F40: =(C40*$D$4)+(D40*$D$4) -> 36
A41: VІ | B41: Разширена подготовка
A42: Общо за Раздел Б | C42: =SUM(C26:C30,C33:C37,C39,C21:C22) -> 20 | D42: =SUM(D26:D30,D33:D37,D39,D21:D22,D40) -> 20 | E42: =SUM(E26:E30,E33:E37,E39) -> 32 | F42: =(C42*$D$4)+(D42*$D$4) -> 720
A43: Раздел В - факултативни учебни часове
A44: VІІ | B44: Допълнителна подготовка
A45: Общо за Раздел А+Раздел Б+Раздел В | C45: =SUM(C17,C42) -> 32 | D45: =SUM(D17,D42) -> 32
C46: =SUM(C17,C42)*18 -> 576 | D46: =SUM(D17,D42)*18 -> 576 | E46: =F37 -> 64 | F46: =SUM(F17,F42) -> 1152
A47: ІХ | B47: Часове на основание чл.29, ал. 1 и ал. 2 от ЗПУО
A48: 1 | B48: Час на класа | C48: 1 | D48: 1 | F48: =((C48*$D$4)-2)+((D48*$D$4)-2) -> 32
A49: 2 | B49: Модул за осъществяване на спортни дейности - волейбол | C49: 1 | D49: 1 | F49: =(C49*$D$4)+(D49*$D$4) -> 36
A50: 3 | B50: Безопасност на движението по пътищата... | C50: 2 | D50: 2 | F50: =SUM(C50:D50) -> 4

Sheet 12 клас_Ав
A1: ІІ | B1: РАЗПРЕДЕЛЕНИЕ НА ПРЕДМЕТИТЕ И ЧАСОВЕТЕ:
A2: ХII клас - 8400701 учебната 2025/2026 година В6
A3: № | B3: Видове подготовка, учебни предмети/ модули | C3: брой учебни седмици | F3: годишен брой часове
C4: 18 | D4: 11 | E4: 2
C5: седмичен брой часове
A6: 1 | B6: 2 | C6: 3 | D6: 4 | E6: 5 | F6: 6
A7: Раздел А - задължителни учебни часове
A8: І | B8: Общообразователна подготовка
A9: 1 | B9: Български език и литература | C9: 3 | D9: 3 | F9: =(C9*$C$4)+(D9*$D$4)+(E9*$E$4) -> 87
A10: 2 | B10: Чужд език - Английски език | C10: 2 | D10: 2 | F10: =(C10*$C$4)+(D10*$D$4)+(E10*$E$4) -> 58
A11: 3 | B11: Математика | C11: 2 | D11: 2 | F11: =(C11*$C$4)+(D11*$D$4)+(E11*$E$4) -> 58
A12: 4 | B12: Гражданско образование | C12: 1 | D12: 1 | F12: =(C12*$C$4)+(D12*$D$4)+(E12*$E$4) -> 29
A13: 5 | B13: Физическо възпитание и спорт | C13: 2 | D13: 2 | F13: =(C13*$C$4)+(D13*$D$4)+(E13*$E$4) -> 58
C14: =SUM(C9:C13) -> 10 | D14: =SUM(D9:D13) -> 10 | F14: =(C14*$C$4)+(D14*$D$4)+(E14*$E$4) -> 290
A15: ІІ | B15: Обща професионална подготовка
A16: 1 | B16: Чужд език по професията - Немски език | C16: 2 | D16: 2 | F16: =(C16*$C$4)+(D16*$D$4)+(E16*$E$4) -> 58
B17: Общо за Раздел А | C17: =SUM(C14,C16) -> 12 | D17: =SUM(D14,D16) -> 12 | F17: =SUM(F14,F16) -> 348
A18: Раздел Б - задължителни учебни часове
A19: ІІІ | B19: Отраслова професионална подготовка
A20: 1 | B20: Теория на професията
A21: 1.1 | B21: Информационни системи в транспорта | C21: 0 | D21: 1 | F21: =(C21*$C$4)+(D21*$D$4)+(E21*$E$4) -> 11
A22: ІV | B22: Специфична професионална подготовка
A23: 1 | B23: Теория на професията
A24: 1.1 | B24: Автотранспортна техника | C24: 2 | D24: 0 | F24: =(C24*$C$4)+(D24*$D$4)+(E24*$E$4) -> 36
A25: 1.2 | B25: Експлоатация на автотранспортната техника | C25: 2 | D25: 0 | F25: =(C25*$C$4)+(D25*$D$4)+(E25*$E$4) -> 36
A26: 1.3 | B26: Организация и управление на транспортно предприятие | C26: 1 | D26: 0 | F26: =(C26*$C$4)+(D26*$D$4)+(E26*$E$4) -> 18
A27: 1.4 | B27: Специализирана дейност | C27: 2 | D27: 0 | F27: =(C27*$C$4)+(D27*$D$4)+(E27*$E$4) -> 36
A28: 1.5 | B28: Транспортно и търговско право | C28: 0 | D28: 3 | F28: =(C28*$C$4)+(D28*$D$4)+(E28*$E$4) -> 33
A29: 2 | B29: Практика на професията
A30: 2.1. | B30: Учебна практика
A31: 2.1 | B31: Експлоатация на автотранспортна техника | C31: 4 | D31: 4 | F31: =(C31*$C$4)+(D31*$D$4)+(E31*$E$4) -> 116
A32: 2.2 | B32: Счетоводна отчетност | C32: 2 | D32: 2 | F32: =(C32*$C$4)+(D32*$D$4)+(E32*$E$4) -> 58
A33: 2.3 | B33: По специалността | C33: 4 | D33: 7 | F33: =(C33*$C$4)+(D33*$D$4)+(E33*$E$4) -> 149
A34: 2.4 | B34: Управление на моторно превозно средство | C34: 1 | D34: 1 | E34: 1 | F34: =(C34*$C$4)+(D34*$D$4)+(E34*$E$4) -> 31
A35: 2.2. | B35: Производствена практика | E35: 32 | F35: =(C35*$D$4)+(D35*$D$4)+(E35*$E$4) -> 64
A36: V | B36: Разширена професионална подготовка
A37: 1.1. | B37: Организация и управление на транспортно предприятие | C37: 1 | D37: 1 | F37: =(C37*$C$4)+(D37*$D$4)+(E37*$E$4) -> 29
A38: VІ | B38: Разширена подготовка
B39: Български език и литература | C39: 1 | D39: 1 | F39: =(C39*$C$4)+(D39*$D$4)+(E39*$E$4) -> 29
A40: Общо за Раздел Б | C40: =SUM(C24:C28,C31:C34,C37,C39) -> 20 | D40: =SUM(D21,D24:D28,D31:D34,D37,D39) -> 20 | E40: =F35+E34*E4 -> 66 | F40: =(C40*$C$4)+(D40*$D$4) -> 580
A41: Раздел В - факултативни учебни часове
A42: 1 | B42: 2 | C42: 3 | D42: 4 | E42: 5 | F42: 6
A43: VІІ | B43: Допълнителна подготовка
A44: Общо за Раздел А+Раздел Б+Раздел В | C44: =SUM(C17,C40) -> 32 | D44: =SUM(D17,D40) -> 32
C45: =SUM(C17,C40)*18 -> 576 | D45: =SUM(D17,D40)*11 -> 352 | E45: =E40 -> 66 | F45: =SUM(F17,F40) -> 928 | G45: =E45+F45 -> 994
A46: ІХ | B46: Часове на основание чл.29, ал. 1 и ал. 2 от ЗПУО
A47: 1 | B47: Час на класа | C47: 1 | D47: 1 | F47: =((C47*$C$4)-C49)+((D47*$D$4)-D49)+(E47*$E$4) -> 26
A48: 2 | B48: Модул за осъществяване на спортни дейности - волейбол | C48: 1 | D48: 1 | F48: =(C48*$C$4)+(D48*$D$4)+(E48*$E$4) -> 29
A49: 3 | B49: Безопасност на движението по пътищата... | C49: 2 | D49: 1 | F49: =SUM(C49:D49) -> 3

Sheet 5-12 OOP
A1: препод | B1: № | C1: Видове подготовка, учебни предмети/ модули | D1: брой учебни седмици | G1: годишен брой часове | H1: по предмета | I1: брой нормативи | J1: фин. От бюджета | K1: фин. От паралелки
D2: 18 | E2: 16, 18, 11 | F2: 2
D3: седмичен брой часове
B4: 1 | C4: 2 | D4: 3 | E4: 4 | F4: 5 | G4: 6 | H4: 7 | I4: 8 | J4: 9 | K4: 10
A5: ЛП | B5: 7 | C5: ='7 клас '!B15 -> Биология и здравно образование | D5: ='7 клас '!C15 -> 2 | E5: ='7 клас '!D15 -> 2 | G5: =$D5*$D$2+$E5*18 -> 72 | I5: =G5/684 -> 0.10526316 | J5: =G5 -> 72
A6: ЛП | B6: 8 | C6: ='8 клас_ЕМА'!B16 -> Биология и здравно образование | D6: 1.5 | E6: 1.5 | G6: =$D6*$D$2+$E6*18 -> 54 | I6: =G6/684 -> 0.078947368 | K6: =G6 -> 54
A7: ЛП | B7: 9 | C7: ='9 клас_тЛВ'!B17 -> Биология и здравно образование | D7: ='9 клас_тЛВ'!C17 -> 1 | E7: ='9 клас_тЛВ'!D17 -> 1 | G7: =$D7*$D$2+$E7*18 -> 36 | I7: =G7/684 -> 0.052631579 | J7: =G7 -> 36
A8: ЛП | B8: 10 | C8: ='10 клас_ХС'!B17 -> Биология и здравно образование | D8: ='10 клас_ХС'!C17 -> 2 | E8: ='10 клас_ХС'!D17 -> 2 | G8: =$D8*$D$2+$E8*18 -> 72 | I8: =G8/684 -> 0.10526316 | K8: =G8 -> 72
A9: ЛП | B9: 8 | C9: Биология и здравно образование ИУП | D9: 1 | E9: 0.5 | G9: =$D9*$D$2+$E9*18 -> 27 | I9: =G9/(25*36) -> 0.03
C10: Биология и здравно образование | H10: =SUM(G5:G9) -> 261 | I10: =SUM(I5:I9) -> 0.37210526 | J10: =SUM(J5:J9) -> 108 | K10: =SUM(K5:K9) -> 126
A11: СЛ | B11: 5 | C11: ='5 клас'!B9 -> Български език и литература | D11: 5.5 | E11: 5.5 | G11: =$D11*$D$2+$E11*16 -> 187 | I11: =G11/648 -> 0.28858025 | J11: =G11 -> 187
A12: БЕ | B12: 6 | C12: ='6 клас '!B9 -> Български език и литература | D12: 5.5 | E12: 5.5 | G12: =$D12*$D$2+$E12*16 -> 187 | I12: =G12/648 -> 0.28858025 | J12: =G12 -> 187
A13: СЛ | B13: 7 | C13: ='7 клас '!B9 -> Български език и литература | D13: ='7 клас '!C9 -> 5 | E13: ='7 клас '!D9 -> 5 | G13: =$D13*$D$2+$E13*18 -> 180 | I13: =G13/648 -> 0.27777778 | J13: =G13 -> 180
A14: БЕ | B14: 8 | C14: ='8 клас_ЕМА'!B9 -> Български език и литература | D14: ='8 клас_ЕМА'!C9 -> 4 | E14: ='8 клас_ЕМА'!D9 -> 4 | G14: =$D14*$D$2+$E14*18 -> 144 | I14: =G14/648 -> 0.22222222 | K14: =G14 -> 144
A15: СЛ | B15: 9 | C15: ='9 клас_тЛВ'!B9 -> Български език и литература | D15: ='9 клас_тЛВ'!C9 -> 3 | E15: ='9 клас_тЛВ'!D9 -> 3 | G15: =$D15*$D$2+$E15*18 -> 108 | I15: =G15/648 -> 0.16666667 | J15: =G15 -> 108
A16: СЛ | B16: 10 | C16: ='10 клас_ХС'!B9 -> Български език и литература | D16: ='10 клас_ХС'!C9 -> 3 | E16: ='10 клас_ХС'!D9 -> 3 | G16: =$D16*$D$2+$E16*18 -> 108 | I16: =G16/648 -> 0.16666667 | K16: =G16 -> 108
A17: БЕ | B17: 11 | C17: ='11 клас_тЛВ '!B9 -> Български език и литература | D17: ='11 клас_тЛВ '!C9 -> 3 | E17: ='11 клас_тЛВ '!D9 -> 3 | G17: =$D17*$D$2+$E17*18 -> 108 | I17: =G17/648 -> 0.16666667 | J17: =G17 -> 108
A18: БЕ | B18: 12 | C18: ='12 клас_Ав'!B9 -> Български език и литература | D18: ='12 клас_Ав'!C9 -> 3 | E18: ='12 клас_Ав'!D9 -> 3 | G18: =$D18*$D$2+$E18*11 -> 87 | I18: =G18/648 -> 0.13425926 | K18: =G18 -> 87
A19: БЕ | B19: 8 | C19: Български език и литература ИУП | D19: 2 | E19: 2 | G19: =$D19*$D$2+$E19*18 -> 72 | I19: =G19/900 -> 0.08
C20: Български език и литература | H20: =SUM(G11:G19) -> 1181 | I20: =SUM(I11:I19) -> 1.7914198 | J20: =SUM(J11:J19) -> 770 | K20: =SUM(K11:K19) -> 339
A21: СИ | B21: 5 | C21: ='5 клас'!B14 -> География и икономика | D21: ='5 клас'!C14 -> 2 | E21: ='5 клас'!D14 -> 2 | G21: =$D21*$D$2+$E21*16 -> 68 | I21: =G21/684 -> 0.099415205 | J21: =G21 -> 68
A22: СИ | B22: 6 | C22: ='6 клас '!B14 -> География и икономика | D22: ='6 клас '!C14 -> 2 | E22: ='6 клас '!D14 -> 2 | G22: =$D22*$D$2+$E22*16 -> 68 | I22: =G22/684 -> 0.099415205 | J22: =G22 -> 68
A23: СИ | B23: 7 | C23: ='7 клас '!B14 -> География и икономика | D23: ='7 клас '!C14 -> 2 | E23: ='7 клас '!D14 -> 2 | G23: =$D23*$D$2+$E23*18 -> 72 | I23: =G23/684 -> 0.10526316 | J23: =G23 -> 72
A24: СИ | B24: 8 | C24: ='8 клас_ЕМА'!B14 -> География и икономика | D24: ='8 клас_ЕМА'!C14 -> 1 | E24: ='8 клас_ЕМА'!D14 -> 1 | G24: =$D24*$D$2+$E24*18 -> 36 | I24: =G24/684 -> 0.052631579 | K24: =G24 -> 36
A25: СИ | B25: 9 | C25: ='9 клас_тЛВ'!B15 -> География и икономика | D25: ='9 клас_тЛВ'!C15 -> 1 | E25: ='9 клас_тЛВ'!D15 -> 1 | G25: =$D25*$D$2+$E25*18 -> 36 | I25: =G25/684 -> 0.052631579 | J25: =G25 -> 36
A26: СИ | B26: 10 | C26: ='10 клас_ХС'!B15 -> География и икономика | D26: ='10 клас_ХС'!C15 -> 2 | E26: ='10 клас_ХС'!D15 -> 3 | G26: =$D26*$D$2+$E26*18 -> 90 | I26: =G26/684 -> 0.13157895 | K26: =G26 -> 90
A27: СИ | B27: 8 | C27: География и икономика ИУП | E27: 1 | G27: =$D27*$D$2+$E27*18 -> 18 | I27: =G27/900 -> 0.02
C28: География и икономика | H28: =SUM(G21:G27) -> 388 | I28: =SUM(I21:I27) -> 0.56093567 | J28: =SUM(J21:J27) -> 244 | K28: =SUM(K21:K27) -> 126
A29: ГД | B29: 11 | C29: ='11 клас_тЛВ '!B12 -> Гражданско образование | D29: ='11 клас_тЛВ '!C12 -> 1 | E29: ='11 клас_тЛВ '!D12 -> 1 | G29: =$D29*$D$2+$E29*18 -> 36 | I29: =G29/684 -> 0.052631579 | J29: =G29 -> 36
A30: ГД | B30: 12 | C30: ='12 клас_Ав'!B12 -> Гражданско образование | D30: ='12 клас_Ав'!C12 -> 1 | E30: ='12 клас_Ав'!D12 -> 1 | G30: =$D30*$D$2+$E30*11 -> 29 | I30: =G30/684 -> 0.042397661 | K30: =G30 -> 29
C31: Гражданско образование | H31: =SUM(G29:G30) -> 65 | I31: =SUM(I29:I30) -> 0.09502924 | J31: =SUM(J29:J30) -> 36 | K31: =SUM(K29:K30) -> 29
A32: ТЧ | B32: 5 | C32: ='5 клас'!B17 -> Изобразително изкуство | D32: ='5 клас'!C17 -> 2 | E32: ='5 клас'!D17 -> 2 | G32: =$D32*$D$2+$E32*16 -> 68 | I32: =G32/700 -> 0.097142857 | J32: =G32 -> 68
A33: ТЧ | B33: 6 | C33: ='6 клас '!B17 -> Изобразително изкуство | D33: ='6 клас '!C17 -> 2 | E33: ='6 клас '!D17 -> 2 | G33: =$D33*$D$2+$E33*16 -> 68 | I33: =G33/700 -> 0.097142857 | J33: =G33 -> 68
A34: ТЧ | B34: 7 | C34: ='7 клас '!B19 -> Изобразително изкуство | D34: 1.5 | E34: 1.5 | G34: =$D34*$D$2+$E34*18 -> 54 | I34: =G34/700 -> 0.077142857 | J34: =G34 -> 54
A35: ТЧ | B35: 8 | C35: ='8 клас_ЕМА'!B20 -> Изобразително изкуство | D35: ='8 клас_ЕМА'!C20 -> 0 | E35: ='8 клас_ЕМА'!D20 -> 1 | G35: =$D35*$D$2+$E35*18 -> 18 | I35: =G35/700 -> 0.025714286 | K35: =G35 -> 18
A36: ТЧ | B36: 9 | C36: ='9 клас_тЛВ'!B21 -> Изобразително изкуство | D36: ='9 клас_тЛВ'!C21 -> 0 | E36: ='9 клас_тЛВ'!D21 -> 1 | G36: =$D36*$D$2+$E36*18 -> 18 | I36: =G36/700 -> 0.025714286 | J36: =G36 -> 18
A37: ТЧ | B37: 10 | C37: ='10 клас_ХС'!B21 -> Изобразително изкуство | D37: ='10 клас_ХС'!C21 -> 0 | E37: ='10 клас_ХС'!D21 -> 1 | G37: =$D37*$D$2+$E37*18 -> 18 | I37: =G37/700 -> 0.025714286 | K37: =G37 -> 18
A38: ТЧ | B38: 8 | C38: Изобразително изкуство ИУП | D38: 1 | G38: =$D38*$D$2+$E38*18 -> 18 | I38: =G38/900 -> 0.02
C39: Изобразително изкуство | H39: =SUM(G32:G38) -> 262 | I39: =SUM(I32:I38) -> 0.36857143 | J39: =SUM(J32:J38) -> 208 | K39: =SUM(K32:K38) -> 36
A40: ТЧ | B40: 8 | C40: ='8 клас_ЕМА'!B12 -> Информационни технологии | D40: ='8 клас_ЕМА'!C12 -> 1 | E40: ='8 клас_ЕМА'!D12 -> 1 | G40: =$D40*$D$2+$E40*18 -> 36 | I40: =G40/648 -> 0.055555556 | K40: =G40 -> 36
A41: ТЧ | B41: 9 | C41: ='9 клас_тЛВ'!B13 -> Информационни технологии | D41: ='9 клас_тЛВ'!C13 -> 1 | E41: ='9 клас_тЛВ'!D13 -> 1 | G41: =$D41*$D$2+$E41*18 -> 36 | I41: =G41/648 -> 0.055555556 | J41: =G41 -> 36
A42: ТЧ | B42: 10 | C42: ='10 клас_ХС'!B13 -> Информационни технологии | D42: ='10 клас_ХС'!C13 -> 0 | E42: ='10 клас_ХС'!D13 -> 1 | G42: =$D42*$D$2+$E42*18 -> 18 | I42: =G42/648 -> 0.027777778 | K42: =G42 -> 18
C43: Информационни технологии | H43: =SUM(G40:G42) -> 90 | I43: =SUM(I40:I42) -> 0.13888889 | J43: =SUM(J40:J42) -> 36 | K43: =SUM(K40:K42) -> 54
A44: ГД | B44: 5 | C44: ='5 клас'!B13 -> История и цивилизации | D44: ='5 клас'!C13 -> 2 | E44: ='5 клас'!D13 -> 2 | G44: =$D44*$D$2+$E44*16 -> 68 | I44: =G44/684 -> 0.099415205 | J44: =G44 -> 68
A45: ГД | B45: 6 | C45: ='6 клас '!B13 -> История и цивилизации | D45: ='6 клас '!C13 -> 2 | E45: ='6 клас '!D13 -> 2 | G45: =$D45*$D$2+$E45*16 -> 68 | I45: =G45/684 -> 0.099415205 | J45: =G45 -> 68
A46: ГД | B46: 7 | C46: ='7 клас '!B13 -> История и цивилизации | D46: ='7 клас '!C13 -> 2 | E46: ='7 клас '!D13 -> 2 | G46: =$D46*$D$2+$E46*18 -> 72 | I46: =G46/684 -> 0.10526316 | J46: =G46 -> 72
A47: ГД | B47: 8 | C47: ='8 клас_ЕМА'!B13 -> История и цивилизации | D47: ='8 клас_ЕМА'!C13 -> 2 | E47: ='8 клас_ЕМА'!D13 -> 2 | G47: =$D47*$D$2+$E47*18 -> 72 | I47: =G47/684 -> 0.10526316 | K47: =G47 -> 72
A48: ГД | B48: 9 | C48: ='9 клас_тЛВ'!B14 -> История и цивилизации | D48: ='9 клас_тЛВ'!C14 -> 2 | E48: ='9 клас_тЛВ'!D14 -> 2 | G48: =$D48*$D$2+$E48*18 -> 72 | I48: =G48/684 -> 0.10526316 | J48: =G48 -> 72
A49: ГД | B49: 10 | C49: ='10 клас_ХС'!B14 -> История и цивилизации | D49: ='10 клас_ХС'!C14 -> 4 | E49: ='10 клас_ХС'!D14 -> 3 | G49: =$D49*$D$2+$E49*18 -> 126 | I49: =G49/684 -> 0.18421053 | K49: =G49 -> 126
A50: ГД | B50: 8 | C50: История и цивилизации ИУП | D50: 1 | E50: 1 | G50: =$D50*$D$2+$E50*18 -> 36 | I50: =G50/684 -> 0.052631579
C51: История и цивилизации | H51: =SUM(G44:G50) -> 514 | I51: =SUM(I44:I50) -> 0.75146199 | J51: =SUM(J44:J50) -> 280 | K51: =SUM(K44:K50) -> 198
A52: ТЧ | B52: 3 | C52: ='3 клас '!B12 -> Компютърно моделиране | D52: ='3 клас '!C12 -> 1 | E52: ='3 клас '!D12 -> 1 | G52: =$D52*$D$2+$E52*14 -> 32 | I52: =G52/648 -> 0.049382716 | J52: =G52 -> 32
A53: ТЧ | B53: 5 | C53: Компютърно моделиране и информационни технологии | D53: 1.5 | E53: 1.5 | G53: =$D53*$D$2+$E53*16 -> 51 | I53: =G53/648 -> 0.078703704 | J53: =G53 -> 51
A54: ТЧ | B54: 6 | C54: ='6 клас '!B12 -> Компютърно моделиране и информационни технологии | D54: 1.5 | E54: 1.5 | G54: =$D54*$D$2+$E54*16 -> 51 | I54: =G54/648 -> 0.078703704 | J54: =G54 -> 51
A55: ТЧ | B55: 7 | C55: ='7 клас '!B12 -> Компютърно моделиране и информационни технологии | D55: 1.5 | E55: 1.5 | G55: =$D55*$D$2+$E55*18 -> 54 | I55: =G55/648 -> 0.083333333 | J55: =G55 -> 54
C56: Компютърно моделиране и информационни технологии | H56: =SUM(G52:G55) -> 188 | I56: =SUM(I52:I55) -> 0.29012346 | J56: =SUM(J52:J55) -> 188 | K56: =SUM(K53:K55) -> 0
A57: МД | B57: 5 | C57: ='5 клас'!B11 -> Математика | D57: ='5 клас'!C11 -> 5 | E57: ='5 клас'!D11 -> 5 | G57: =$D57*$D$2+$E57*16 -> 170 | I57: =G57/648 -> 0.26234568 | J57: =G57 -> 170
A58: МД | B58: 6 | C58: ='6 клас '!B11 -> Математика | D58: ='6 клас '!C11 -> 5 | E58: ='6 клас '!D11 -> 5 | G58: =$D58*$D$2+$E58*16 -> 170 | I58: =G58/648 -> 0.26234568 | J58: =G58 -> 170
A59: МД | B59: 7 | C59: ='7 клас '!B11 -> Математика | D59: ='7 клас '!C11 -> 5 | E59: ='7 клас '!D11 -> 5 | G59: =$D59*$D$2+$E59*18 -> 180 | I59: =G59/648 -> 0.27777778 | J59: =G59 -> 180
A60: МД | B60: 8 | C60: ='8 клас_ЕМА'!B11 -> Математика | D60: ='8 клас_ЕМА'!C11 -> 3 | E60: ='8 клас_ЕМА'!D11 -> 3 | G60: =$D60*$D$2+$E60*18 -> 108 | I60: =G60/648 -> 0.16666667 | K60: =G60 -> 108
A61: МД | B61: 9 | C61: ='9 клас_тЛВ'!B12 -> Математика | D61: ='9 клас_тЛВ'!C12 -> 3 | E61: ='9 клас_тЛВ'!D12 -> 3 | G61: =$D61*$D$2+$E61*18 -> 108 | I61: =G61/648 -> 0.16666667 | J61: =G61 -> 108
A62: МД | B62: 10 | C62: ='10 клас_ХС'!B12 -> Математика | D62: ='10 клас_ХС'!C12 -> 2 | E62: ='10 клас_ХС'!D12 -> 2 | G62: =$D62*$D$2+$E62*18 -> 72 | I62: =G62/648 -> 0.11111111 | K62: =G62 -> 72
A63: МД | B63: 11 | C63: ='11 клас_тЛВ '!B11 -> Математика | D63: ='11 клас_тЛВ '!C11 -> 2 | E63: ='11 клас_тЛВ '!D11 -> 2 | G63: =$D63*$D$2+$E63*18 -> 72 | I63: =G63/648 -> 0.11111111 | J63: =G63 -> 72
A64: МД | B64: 12 | C64: ='12 клас_Ав'!B11 -> Математика | D64: ='12 клас_Ав'!C11 -> 2 | E64: ='12 клас_Ав'!D11 -> 2 | G64: =$D64*$D$2+$E64*11 -> 58 | I64: =G64/648 -> 0.089506173 | K64: =G64 -> 58
A65: МД | B65: 8 | C65: Математика ИУП | D65: 1 | E65: 2 | G65: =$D65*$D$2+$E65*18 -> 54 | I65: =G65/900 -> 0.06
C66: Математика | H66: =SUM(G57:G65) -> 992 | I66: =SUM(I57:I65) -> 1.5075309 | J66: =SUM(J57:J65) -> 700 | K66: =SUM(K57:K65) -> 238
B67: 5 | C67: ='5 клас'!B16 -> Музика | D67: ='5 клас'!C16 -> 2 | E67: ='5 клас'!D16 -> 2 | G67: =$D67*$D$2+$E67*16 -> 68 | I67: =G67/700 -> 0.097142857 | J67: =G67 -> 68
B68: 6 | C68: ='6 клас '!B16 -> Музика | D68: ='6 клас '!C16 -> 2 | E68: ='6 клас '!D16 -> 2 | G68: =$D68*$D$2+$E68*16 -> 68 | I68: =G68/700 -> 0.097142857 | J68: =G68 -> 68
B69: 7 | C69: ='7 клас '!B18 -> Музика | D69: ='7 клас '!C18 -> 2 | E69: ='7 клас '!D18 -> 1 | G69: =$D69*$D$2+$E69*18 -> 54 | I69: =G69/700 -> 0.077142857 | J69: =G69 -> 54
B70: 8 | C70: ='8 клас_ЕМА'!B19 -> Музика | D70: ='8 клас_ЕМА'!C19 -> 1 | E70: ='8 клас_ЕМА'!D19 -> 0 | G70: =$D70*$D$2+$E70*18 -> 18 | I70: =G70/700 -> 0.025714286 | K70: =G70 -> 18
B71: 9 | C71: ='9 клас_тЛВ'!B20 -> Музика | D71: ='9 клас_тЛВ'!C20 -> 1 | E71: ='9 клас_тЛВ'!D20 -> 0 | G71: =$D71*$D$2+$E71*18 -> 18 | I71: =G71/700 -> 0.025714286 | J71: =G71 -> 18
B72: 10 | C72: ='10 клас_ХС'!B20 -> Музика | D72: ='10 клас_ХС'!C20 -> 1 | E72: ='10 клас_ХС'!D20 -> 0 | G72: =$D72*$D$2+$E72*18 -> 18 | I72: =G72/700 -> 0.025714286 | K72: =G72 -> 18
C73: Музика | H73: =SUM(G67:G72) -> 244 | I73: =SUM(I67:I72) -> 0.34857143 | J73: =SUM(J67:J72) -> 208 | K73: =SUM(K67:K72) -> 36
A74: ТЧ | B74: 5 | C74: ='5 клас'!B18 -> Технологии и предприемачество | D74: 1.5 | E74: 1.5 | G74: =$D74*$D$2+$E74*16 -> 51 | I74: =G74/700 -> 0.072857143 | J74: =G74 -> 51
A75: ТЧ | B75: 6 | C75: ='6 клас '!B18 -> Технологии и предприемачество | D75: 1.5 | E75: 1.5 | G75: =$D75*$D$2+$E75*16 -> 51 | I75: =G75/700 -> 0.072857143 | J75: =G75 -> 51
A76: ТЧ | B76: 7 | C76: ='7 клас '!B20 -> Технологии и предприемачество | D76: ='7 клас '!C20 -> 1 | E76: ='7 клас '!D20 -> 1 | G76: =$D76*$D$2+$E76*18 -> 36 | I76: =G76/700 -> 0.051428571 | J76: =G76 -> 36
A77: ТЧ | B77: 8 | C77: ='8 клас_ЕМА'!B24 -> Предприемачество | D77: ='8 клас_ЕМА'!C24 -> 1 | E77: ='8 клас_ЕМА'!D24 -> 1 | G77: =$D77*$D$2+$E77*18 -> 36 | I77: =G77/648 -> 0.055555556 | K77: =G77 -> 36
C78: Технологии и предприемачество | H78: =SUM(G74:G77) -> 174 | I78: =SUM(I74:I77) -> 0.25269841 | J78: =SUM(J74:J76) -> 138 | K78: =SUM(K74:K77) -> 36
A79: РТ | B79: 8 | C79: ='8 клас_ЕМА'!B17 -> Физика и астрономия | D79: 1.5 | E79: 1.5 | G79: =$D79*$D$2+$E79*18 -> 54 | I79: =G79/684 -> 0.078947368 | K79: =G79 -> 54
A80: РТ | B80: 9 | C80: ='9 клас_тЛВ'!B18 -> Физика и астрономия | D80: ='9 клас_тЛВ'!C18 -> 1 | E80: ='9 клас_тЛВ'!D18 -> 1 | G80: =$D80*$D$2+$E80*18 -> 36 | I80: =G80/684 -> 0.052631579 | J80: =G80 -> 36
A81: РТ | B81: 10 | C81: ='10 клас_ХС'!B18 -> Физика и астрономия | D81: ='10 клас_ХС'!C18 -> 2 | E81: ='10 клас_ХС'!D18 -> 2 | G81: =$D81*$D$2+$E81*18 -> 72 | I81: =G81/684 -> 0.10526316 | K81: =G81 -> 72
A82: РТ | B82: 7 | C82: ='7 клас '!B16 -> Физика и астрономия | D82: 1.5 | E82: 1.5 | G82: =$D82*$D$2+$E82*18 -> 54 | I82: =G82/684 -> 0.078947368 | J82: =G82 -> 54
C83: Физика и астрономия | H83: =SUM(G79:G82) -> 216 | I83: =SUM(I79:I82) -> 0.31578947 | J83: =SUM(J79:J82) -> 90 | K83: =SUM(K79:K82) -> 126
A84: ОП | B84: 5 | C84: ='5 клас'!B19 -> Физическо възпитание и спорт | D84: ='5 клас'!C19 -> 2 | E84: ='5 клас'!D19 -> 3 | G84: =$D84*$D$2+$E84*16 -> 84 | I84: =G84/700 -> 0.12 | J84: =G84 -> 84 | N84: =90*15 -> 1350
A85: ОП | B85: 6 | C85: ='6 клас '!B19 -> Физическо възпитание и спорт | D85: ='6 клас '!C19 -> 3 | E85: ='6 клас '!D19 -> 2 | G85: =$D85*$D$2+$E85*16 -> 86 | I85: =G85/700 -> 0.12285714 | J85: =G85 -> 86
A86: ОП | B86: 7 | C86: ='7 клас '!B21 -> Физическо възпитание и спорт | D86: ='7 клас '!C21 -> 2 | E86: ='7 клас '!D21 -> 2 | G86: =$D86*$D$2+$E86*18 -> 72 | I86: =G86/700 -> 0.10285714 | J86: =G86 -> 72 | N86: =126*15 -> 1890
A87: ОП | B87: 8 | C87: ='8 клас_ЕМА'!B21 -> Физическо възпитание и спорт | D87: ='8 клас_ЕМА'!C21 -> 2 | E87: ='8 клас_ЕМА'!D21 -> 2 | G87: =$D87*$D$2+$E87*18 -> 72 | I87: =G87/700 -> 0.10285714 | K87: =G87 -> 72 | N87: =7020-1350 -> 5670
A88: ОП | B88: 9 | C88: ='9 клас_тЛВ'!B22 -> Физическо възпитание и спорт | D88: ='9 клас_тЛВ'!C22 -> 2 | E88: ='9 клас_тЛВ'!D22 -> 2 | G88: =$D88*$D$2+$E88*18 -> 72 | I88: =G88/700 -> 0.10285714 | J88: =G88 -> 72
A89: ОП | B89: 10 | C89: ='10 клас_ХС'!B22 -> Физическо възпитание и спорт | D89: ='10 клас_ХС'!C22 -> 2 | E89: ='10 клас_ХС'!D22 -> 2 | G89: =$D89*$D$2+$E89*18 -> 72 | I89: =G89/700 -> 0.10285714 | K89: =G89 -> 72
A90: ОП | B90: 11 | C90: ='11 клас_тЛВ '!B13 -> Физическо възпитание и спорт | D90: ='11 клас_тЛВ '!C13 -> 2 | E90: ='11 клас_тЛВ '!D13 -> 2 | G90: =$D90*$D$2+$E90*18 -> 72 | I90: =G90/700 -> 0.10285714 | J90: =G90 -> 72
A91: ОП | B91: 12 | C91: ='12 клас_Ав'!B13 -> Физическо възпитание и спорт | D91: ='12 клас_Ав'!C13 -> 2 | E91: ='12 клас_Ав'!D13 -> 2 | G91: =$D91*$D$2+$E91*11 -> 58 | I91: =G91/700 -> 0.082857143 | K91: =G91 -> 58
C92: Физическо възпитание и спорт | H92: =SUM(G84:G91) -> 588 | I92: =SUM(I84:I91) -> 0.84 | J92: =SUM(J84:J91) -> 386 | K92: =SUM(K84:K91) -> 202
B93: 8 | C93: ='8 клас_ЕМА'!B15 -> Философия | D93: ='8 клас_ЕМА'!C15 -> 1 | E93: ='8 клас_ЕМА'!D15 -> 1 | G93: =$D93*$D$2+$E93*18 -> 36 | I93: =G93/684 -> 0.052631579 | K93: =G93 -> 36
B94: 9 | C94: ='9 клас_тЛВ'!B16 -> Философия | D94: ='9 клас_тЛВ'!C16 -> 1 | E94: ='9 клас_тЛВ'!D16 -> 1 | G94: =$D94*$D$2+$E94*18 -> 36 | I94: =G94/684 -> 0.052631579 | J94: =G94 -> 36
B95: 10 | C95: ='10 клас_ХС'!B16 -> Философия | D95: ='10 клас_ХС'!C16 -> 2 | E95: ='10 клас_ХС'!D16 -> 2 | G95: =$D95*$D$2+$E95*18 -> 72 | I95: =G95/684 -> 0.10526316 | K95: =G95 -> 72
C96: Философия | H96: =SUM(G93:G95) -> 144 | I96: =SUM(I93:I95) -> 0.21052632 | J96: =SUM(J93:J95) -> 36 | K96: =SUM(K93:K95) -> 108
A97: ЛП | B97: 7 | C97: ='7 клас '!B17 -> Химия и опазване на околната среда | D97: ='7 клас '!C17 -> 2 | E97: ='7 клас '!D17 -> 1 | G97: =$D97*$D$2+$E97*18 -> 54 | I97: =G97/684 -> 0.078947368 | J97: =G97 -> 54 | O97: =N97-684 -> -684
A98: ЛП | B98: 8 | C98: ='8 клас_ЕМА'!B18 -> Химия и опазване на околната среда | D98: ='8 клас_ЕМА'!C18 -> 1 | E98: ='8 клас_ЕМА'!D18 -> 1 | G98: =$D98*$D$2+$E98*18 -> 36 | I98: =G98/684 -> 0.052631579 | K98: =G98 -> 36
A99: ЛП | B99: 9 | C99: ='9 клас_тЛВ'!B19 -> Химия и опазване на околната среда | D99: ='9 клас_тЛВ'!C19 -> 1 | E99: ='9 клас_тЛВ'!D19 -> 2 | G99: =$D99*$D$2+$E99*18 -> 54 | I99: =G99/684 -> 0.078947368 | J99: =G99 -> 54
A100: ЛП | B100: 10 | C100: ='10 клас_ХС'!B19 -> Химия и опазване на околната среда | D100: ='10 клас_ХС'!C19 -> 2 | E100: ='10 клас_ХС'!D19 -> 2 | G100: =$D100*$D$2+$E100*18 -> 72 | I100: =G100/684 -> 0.10526316 | K100: =G100 -> 72
...

Sheet 5-12 учители
A1: препод | B1: № | C1: Видове подготовка, учебни предмети/ модули | D1: брой учебни седмици | G1: годишен брой часове | H1: брой нормативи | I1: К Пр-не | J1: след пр-не | L1: фин. От бюджета | M1: фин. От паралелки
D2: 18 | E2: 16, 18, 11 | F2: 2 | K2: над/под Н
D3: седмичен брой часове
B4: 1 | C4: 2 | D4: 3 | E4: 4 | F4: 5 | G4: 6 | H4: 8 | L4: 9 | M4: 10
A5: БЕ | B5: 6 | C5: ='6 клас '!B9 -> Български език и литература | D5: 5.5 | E5: 5.5 | G5: =$D5*$D$2+$E5*16 -> 187 | H5: 648 | I5: 1 | J5: =G5*I5 -> 187 | L5: =G5 -> 187
A6: БЕ | B6: 8 | C6: ='8 клас_ЕМА'!B9 -> Български език и литература | D6: ='8 клас_ЕМА'!C9 -> 4 | E6: ='8 клас_ЕМА'!D9 -> 4 | G6: =$D6*$D$2+$E6*18 -> 144 | H6: 648 | I6: 1 | J6: =G6*I6 -> 144 | M6: =G6 -> 144
A7: БЕ | B7: 11 | C7: ='11 клас_тЛВ '!B9 -> Български език и литература | D7: ='11 клас_тЛВ '!C9 -> 3 | E7: ='11 клас_тЛВ '!D9 -> 3 | G7: =$D7*$D$2+$E7*18 -> 108 | H7: 648 | I7: 1 | J7: =G7*I7 -> 108 | L7: =G7 -> 108
A8: БЕ | B8: 12 | C8: ='12 клас_Ав'!B9 -> Български език и литература | D8: ='12 клас_Ав'!C9 -> 3 | E8: ='12 клас_Ав'!D9 -> 3 | G8: =$D8*$D$2+$E8*11 -> 87 | H8: 648 | I8: 1 | J8: =G8*I8 -> 87 | M8: =G8 -> 87
A9: БЕ | B9: 8 | C9: Български език и литература ИУП | D9: 2 | E9: 2 | G9: =$D9*$D$2+$E9*18 -> 72 | H9: 900 | I9: 1.39 | J9: =G9*I9 -> 100.08
A10: БЕ | B10: 6 | C10: ='6 клас '!B23 -> Български език и литература | D10: 1.5 | E10: 1.5 | G10: =$D10*$D$2+$E10*16 -> 51 | H10: 648 | I10: 1 | J10: =G10*I10 -> 51 | L10: =G10 -> 51
A11: БЕ | B11: 12 | C11: ='12 клас_Ав'!B39 -> Български език и литература | D11: ='12 клас_Ав'!C39 -> 1 | E11: ='12 клас_Ав'!D39 -> 1 | G11: =$D11*$D$2+$E11*11 -> 29 | H11: 648 | I11: 1 | J11: =G11*I11 -> 29 | M11: =G11 -> 29
J12: =SUM(J5:J11) -> 706.08 | K12: =J12-648 -> 58.08 | L12: =SUM(L5:L11) -> 346 | M12: =SUM(M5:M11) -> 260
A13: ВК | B13: 8 | C13: ='8 клас_ЕМА'!B10 -> Чужд език - Немски език | D13: ='8 клас_ЕМА'!C10 -> 4 | E13: ='8 клас_ЕМА'!D10 -> 4 | G13: =$D13*$D$2+$E13*18 -> 144 | H13: 648 | I13: 1 | J13: =G13*I13 -> 144 | M13: =G13 -> 144
A14: ВК | B14: 9 | C14: ='9 клас_тЛВ'!B10 -> Чужд език - Немски език | D14: ='9 клас_тЛВ'!C10 -> 2 | E14: ='9 клас_тЛВ'!D10 -> 2 | G14: =$D14*$D$2+$E14*18 -> 72 | H14: 648 | I14: 1 | J14: =G14*I14 -> 72 | L14: =G14 -> 72
A15: ВК | B15: 10 | C15: ='10 клас_ХС'!B10 -> Чужд език - Немски език | D15: ='10 клас_ХС'!C10 -> 2 | E15: ='10 клас_ХС'!D10 -> 2 | G15: =$D15*$D$2+$E15*18 -> 72 | H15: 648 | I15: 1 | J15: =G15*I15 -> 72 | M15: =G15 -> 72
A16: ВК | B16: 11 | C16: ='11 клас_тЛВ '!B16 -> Чужд език по професията - Немски език | D16: ='11 клас_тЛВ '!C16 -> 2 | E16: ='11 клас_тЛВ '!D16 -> 2 | G16: =$D16*$D$2+$E16*18 -> 72 | H16: 648 | I16: 1 | J16: =G16*I16 -> 72 | L16: =G16 -> 72
A17: ВК | B17: 12 | C17: ='12 клас_Ав'!B16 -> Чужд език по професията - Немски език | D17: ='12 клас_Ав'!C16 -> 2 | E17: ='12 клас_Ав'!D16 -> 2 | G17: =$D17*$D$2+$E17*18 -> 72 | H17: 648 | I17: 1 | J17: =G17*I17 -> 72 | M17: =G17 -> 72
J18: =SUM(J13:J17) -> 432 | L18: =SUM(L13:L17) -> 144 | M18: =SUM(M13:M17) -> 288
A19: ГД | B19: 11 | C19: ='11 клас_тЛВ '!B12 -> Гражданско образование | D19: ='11 клас_тЛВ '!C12 -> 1 | E19: ='11 клас_тЛВ '!D12 -> 1 | G19: =$D19*$D$2+$E19*18 -> 36 | H19: 684 | I19: 1 | J19: =G19*I19 -> 36 | L19: =G19 -> 36
A20: ГД | B20: 12 | C20: ='12 клас_Ав'!B12 -> Гражданско образование | D20: ='12 клас_Ав'!C12 -> 1 | E20: ='12 клас_Ав'!D12 -> 1 | G20: =$D20*$D$2+$E20*11 -> 29 | H20: 684 | I20: 1 | J20: =G20*I20 -> 29 | M20: =G20 -> 29
A21: ГД | B21: 5 | C21: ='5 клас'!B13 -> История и цивилизации | D21: ='5 клас'!C13 -> 2 | E21: ='5 клас'!D13 -> 2 | G21: =$D21*$D$2+$E21*16 -> 68 | H21: 684 | I21: 1 | J21: =G21*I21 -> 68 | L21: =G21 -> 68
A22: ГД | B22: 6 | C22: ='6 клас '!B13 -> История и цивилизации | D22: ='6 клас '!C13 -> 2 | E22: ='6 клас '!D13 -> 2 | G22: =$D22*$D$2+$E22*16 -> 68 | H22: 684 | I22: 1 | J22: =G22*I22 -> 68 | L22: =G22 -> 68
A23: ГД | B23: 7 | C23: ='7 клас '!B13 -> История и цивилизации | D23: ='7 клас '!C13 -> 2 | E23: ='7 клас '!D13 -> 2 | G23: =$D23*$D$2+$E23*18 -> 72 | H23: 684 | I23: 1 | J23: =G23*I23 -> 72 | L23: =G23 -> 72
A24: ГД | B24: 8 | C24: ='8 клас_ЕМА'!B13 -> История и цивилизации | D24: ='8 клас_ЕМА'!C13 -> 2 | E24: ='8 клас_ЕМА'!D13 -> 2 | G24: =$D24*$D$2+$E24*18 -> 72 | H24: 684 | I24: 1 | J24: =G24*I24 -> 72 | M24: =G24 -> 72
A25: ГД | B25: 9 | C25: ='9 клас_тЛВ'!B14 -> История и цивилизации | D25: ='9 клас_тЛВ'!C14 -> 2 | E25: ='9 клас_тЛВ'!D14 -> 2 | G25: =$D25*$D$2+$E25*18 -> 72 | H25: 684 | I25: 1 | J25: =G25*I25 -> 72 | L25: =G25 -> 72
A26: ГД | B26: 10 | C26: ='10 клас_ХС'!B14 -> История и цивилизации | D26: ='10 клас_ХС'!C14 -> 4 | E26: ='10 клас_ХС'!D14 -> 3 | G26: =$D26*$D$2+$E26*18 -> 126 | H26: 684 | I26: 1 | J26: =G26*I26 -> 126 | M26: =G26 -> 126
A27: ГД | B27: 8 | C27: История и цивилизации ИУП | D27: 1 | E27: 1 | G27: =$D27*$D$2+$E27*18 -> 36 | H27: 900 | I27: 1.39 | J27: =G27*I27 -> 50.04
A28: ГД | B28: 8 | C28: ='8 клас_ЕМА'!B15 -> Философия | D28: ='8 клас_ЕМА'!C15 -> 1 | E28: ='8 клас_ЕМА'!D15 -> 1 | G28: =$D28*$D$2+$E28*18 -> 36 | H28: 684 | I28: 1 | J28: =G28*I28 -> 36 | M28: =G28 -> 36
A29: ГД | B29: 9 | C29: ='9 клас_тЛВ'!B16 -> Философия | D29: ='9 клас_тЛВ'!C16 -> 1 | E29: ='9 клас_тЛВ'!D16 -> 1 | G29: =$D29*$D$2+$E29*18 -> 36 | H29: 684 | I29: 1 | J29: =G29*I29 -> 36 | L29: =G29 -> 36
A30: ГД | B30: 10 | C30: ='10 клас_ХС'!B16 -> Философия | D30: ='10 клас_ХС'!C16 -> 2 | E30: ='10 клас_ХС'!D16 -> 2 | G30: =$D30*$D$2+$E30*18 -> 72 | H30: 684 | I30: 1 | J30: =G30*I30 -> 72 | M30: =G30 -> 72
A31: ГД | B31: 5 | C31: ='5 клас'!B24 -> Хореография | D31: 1.5 | E31: 1.5 | G31: =$D31*$D$2+$E31*16 -> 51 | H31: 700 | I31: 0.98 | J31: =G31*I31 -> 49.98 | L31: =G31 -> 51
A32: ГД | B32: 6 | C32: ='6 клас '!B24 -> Хореография | D32: ='6 клас '!C24 -> 1 | E32: ='6 клас '!D24 -> 1 | G32: =$D32*$D$2+$E32*16 -> 34 | H32: 700 | I32: 0.98 | J32: =G32*I32 -> 33.32 | L32: =G32 -> 34
A33: ГД | B33: 7 | C33: ='7 клас '!B26 -> Хореография | D33: ='7 клас '!C26 -> 1 | E33: ='7 клас '!D26 -> 1 | G33: =$D33*$D$2+$E33*18 -> 36 | H33: 700 | I33: 0.98 | J33: =G33*I33 -> 35.28 | L33: =G33 -> 36
J34: =SUM(J19:J33) -> 855.62 | K34: =J34-684 -> 171.62 | L34: =SUM(L19:L33) -> 473 | M34: =SUM(M19:M33) -> 335
A35: ДГ | B35: 9 | C35: ='9 клас_тЛВ'!B34 -> Почвознание | D35: ='9 клас_тЛВ'!C34 -> 1 | E35: ='9 клас_тЛВ'!D34 -> 0 | G35: =$D35*$D$2+$E35*18 -> 18 | H35: 840 | I35: 1 | J35: =G35*I35 -> 18 | L35: =G35 -> 18
A36: ДГ | B36: 9 | C36: ='9 клас_тЛВ'!B35 -> Ботаника | D36: ='9 клас_тЛВ'!C35 -> 0 | E36: ='9 клас_тЛВ'!D35 -> 1 | G36: =$D36*$D$2+$E36*18 -> 18 | H36: 840 | I36: 1 | J36: =G36*I36 -> 18 | L36: =G36 -> 18
A37: ДГ | B37: 9 | C37: ='9 клас_тЛВ'!B39 -> Учебна практика - Лозарство | D37: ='9 клас_тЛВ'!C39 -> 2 | E37: ='9 клас_тЛВ'!D39 -> 2 | G37: =$D37*$D$2+$E37*18 -> 72 | H37: 840 | I37: 1 | J37: =G37*I37 -> 72 | L37: =G37 -> 72
A38: ДГ | B38: 9 | C38: ='9 клас_тЛВ'!B40 -> Учебна практика - Ботаника | D38: ='9 клас_тЛВ'!C40 -> 2 | E38: ='9 клас_тЛВ'!D40 -> 2 | G38: =$D38*$D$2+$E38*18 -> 72 | H38: 840 | I38: 1 | J38: =G38*I38 -> 72 | L38: =G38 -> 72
A39: ДГ | B39: 11 | C39: ='11 клас_тЛВ '!B26 -> Лозарство | D39: ='11 клас_тЛВ '!C26 -> 3 | E39: ='11 клас_тЛВ '!D26 -> 2 | G39: =$D39*$D$2+$E39*18 -> 90 | H39: 648 | I39: 1.3 | J39: =G39*I39 -> 117 | L39: =G39 -> 90
A40: ДГ | B40: 11 | C40: ='11 клас_тЛВ '!B33 -> Лозарство | D40: ='11 клас_тЛВ '!C33 -> 2 | E40: ='11 клас_тЛВ '!D33 -> 3 | G40: =$D40*$D$2+$E40*18 -> 90 | H40: 840 | I40: 1 | J40: =G40*I40 -> 90 | L40: =G40 -> 90
A41: ДГ | B41: 11 | C41: ='11 клас_тЛВ '!B34 -> Машини в лозарството | D41: ='11 клас_тЛВ '!C34 -> 2 | E41: ='11 клас_тЛВ '!D34 -> 2 | G41: =$D41*$D$2+$E41*18 -> 72 | H41: 840 | I41: 1 | J41: =G41*I41 -> 72 | L41: =G41 -> 72
A42: ДГ | B42: 11 | C42: ='11 клас_тЛВ '!B37 -> Производствена практика | F42: ='11 клас_тЛВ '!E37 -> 32 | G42: =F42*$F$2 -> 64 | H42: 840 | I42: 1 | J42: =G42*I42 -> 64 | L42: =G42 -> 64
J43: =SUM(J35:J42) -> 523 | K43: =J43-840 -> -317 | L43: =SUM(L35:L42) -> 496
A44: ДО | B44: 2 | C44: ='2 клас'!B10 -> Чужд език - Английски език | D44: ='2 клас'!C10 -> 2 | E44: ='2 клас'!D10 -> 2 | G44: =$D44*$D$2+$E44*14 -> 64 | H44: 648 | I44: 1 | J44: =G44*I44 -> 64 | L44: =G44 -> 64
A45: ДО | B45: 3 | C45: ='3 клас '!B10 -> Чужд език - Английски език | D45: ='3 клас '!C10 -> 3 | E45: ='3 клас '!D10 -> 3 | G45: =$D45*$D$2+$E45*14 -> 96 | H45: 648 | I45: 1 | J45: =G45*I45 -> 96 | L45: =G45 -> 96
A46: ДО | B46: 4 | C46: ='4 клас '!B10 -> Чужд език - Английски език | D46: ='4 клас '!C10 -> 3 | E46: ='4 клас '!D10 -> 3 | G46: =$D46*$D$2+$E46*16 -> 102 | H46: 648 | I46: 1 | J46: =G46*I46 -> 102 | L46: =G46 -> 102
A47: ДО | B47: 5 | C47: ='5 клас'!B10 -> Чужд език - Английски език | D47: ='5 клас'!C10 -> 3 | E47: ='5 клас'!D10 -> 3 | G47: =$D47*$D$2+$E47*16 -> 102 | H47: 648 | I47: 1 | J47: =G47*I47 -> 102 | L47: =G47 -> 102
A48: ДО | B48: 6 | C48: ='6 клас '!B10 -> Чужд език - Английски език | D48: ='6 клас '!C10 -> 3 | E48: ='6 клас '!D10 -> 3 | G48: =$D48*$D$2+$E48*16 -> 102 | H48: 648 | I48: 1 | J48: =G48*I48 -> 102 | L48: =G48 -> 102
A49: ДО | B49: 7 | C49: ='7 клас '!B10 -> Чужд език - Английски език | D49: ='7 клас '!C10 -> 3 | E49: ='7 клас '!D10 -> 3 | G49: =$D49*$D$2+$E49*18 -> 108 | H49: 648 | I49: 1 | J49: =G49*I49 -> 108 | L49: =G49 -> 108
A50: ДО | B50: 9 | C50: ='9 клас_тЛВ'!B11 -> Чужд език - Английски език | D50: ='9 клас_тЛВ'!C11 -> 2 | E50: ='9 клас_тЛВ'!D11 -> 2 | G50: =$D50*$D$2+$E50*18 -> 72 | H50: 648 | I50: 1 | J50: =G50*I50 -> 72 | L50: =G50 -> 72
A51: ДО | B51: 10 | C51: ='10 клас_ХС'!B11 -> Чужд език - Английски език | D51: ='10 клас_ХС'!C11 -> 2 | E51: ='10 клас_ХС'!D11 -> 2 | G51: =$D51*$D$2+$E51*18 -> 72 | H51: 648 | I51: 1 | J51: =G51*I51 -> 72 | M51: =G51 -> 72
A52: ДО | B52: 11 | C52: ='11 клас_тЛВ '!B10 -> Чужд език - Английски език | D52: ='11 клас_тЛВ '!C10 -> 2 | E52: ='11 клас_тЛВ '!D10 -> 2 | G52: =$D52*$D$2+$E52*18 -> 72 | H52: 648 | I52: 1 | J52: =G52*I52 -> 72 | L52: =G52 -> 72
A53: ДО | B53: 12 | C53: ='12 клас_Ав'!B10 -> Чужд език - Английски език | D53: ='12 клас_Ав'!C10 -> 2 | E53: ='12 клас_Ав'!D10 -> 2 | G53: =$D53*$D$2+$E53*11 -> 58 | H53: 648 | I53: 1 | J53: =G53*I53 -> 58 | M53: =G53 -> 58
J54: =SUM(J44:J53) -> 848 | K54: =J54-648 -> 200 | L54: =SUM(L44:L53) -> 718 | M54: =SUM(M44:M53) -> 130
A55: ИИ | B55: 11 | C55: ='11 клас_тЛВ '!B21 -> Безопасност на движението | D55: ='11 клас_тЛВ '!C21 -> 1 | E55: ='11 клас_тЛВ '!D21 -> 1 | G55: =$D55*$D$2+$E55*18 -> 36 | H55: 648 | I55: 1 | J55: =G55*I55 -> 36 | L55: =G55 -> 36
A56: ИИ | B56: 11 | C56: ='11 клас_тЛВ '!B22 -> Управление на моторна превозно средство | D56: ='11 клас_тЛВ '!C22 -> 1 | E56: ='11 клас_тЛВ '!D22 -> 1 | G56: 20 | H56: 648 | I56: 1 | J56: =G56*I56 -> 20 | L56: =G56 -> 20
A57: ИИ | B57: 11 | C57: ='11 клас_тЛВ '!B29 -> Машини във винопроизводството | D57: ='11 клас_тЛВ '!C29 -> 2 | E57: ='11 клас_тЛВ '!D29 -> 2 | G57: =$D57*$D$2+$E57*18 -> 72 | H57: 648 | I57: 1 | J57: =G57*I57 -> 72 | L57: =G57 -> 72
A58: ИИ | B58: 11 | C58: ='11 клас_тЛВ '!B36 -> Работа с машинно-тракторни агрегати | D58: ='11 клас_тЛВ '!C36 -> 1 | E58: ='11 клас_тЛВ '!D36 -> 0 | G58: 16 | H58: 840 | I58: 1 | J58: =G58*I58 -> 16 | L58: =G58 -> 16
A59: ИИ | B59: 11 | C59: ='11 клас_тЛВ '!B40 -> Работа с машинно-тракторни агрегати | D59: ='11 клас_тЛВ '!C40 -> 1 | E59: ='11 клас_тЛВ '!D40 -> 1 | G59: =$D59*$D$2+$E59*18 -> 36 | H59: 648 | I59: 1 | J59: =G59*I59 -> 36 | L59: =G59 -> 36
A60: ИИ | B60: 12 | C60: ='12 клас_Ав'!B21 -> Информационни системи в транспорта | D60: ='12 клас_Ав'!C21 -> 0 | E60: ='12 клас_Ав'!D21 -> 1 | G60: =$D60*$D$2+$E60*11 -> 11 | H60: 648 | I60: 1 | J60: =G60*I60 -> 11 | M60: =G60 -> 11
A61: ИИ | B61: 12 | C61: ='12 клас_Ав'!B24 -> Автотранспортна техника | D61: ='12 клас_Ав'!C24 -> 2 | E61: ='12 клас_Ав'!D24 -> 0 | G61: =$D61*$D$2+$E61*11 -> 36 | H61: 648 | I61: 1 | J61: =G61*I61 -> 36 | M61: =G61 -> 36
A62: ИИ | B62: 12 | C62: ='12 клас_Ав'!B25 -> Експлоатация на автотранспортната техника | D62: ='12 клас_Ав'!C25 -> 2 | E62: ='12 клас_Ав'!D25 -> 0 | G62: =$D62*$D$2+$E62*11 -> 36 | H62: 648 | I62: 1 | J62: =G62*I62 -> 36 | M62: =G62 -> 36
A63: ИИ | B63: 12 | C63: ='12 клас_Ав'!B26 -> Организация и управление на транспортно предприятие | D63: ='12 клас_Ав'!C26 -> 1 | E63: ='12 клас_Ав'!D26 -> 0 | G63: =$D63*$D$2+$E63*11 -> 18 | H63: 648 | I63: 1 | J63: =G63*I63 -> 18 | M63: =G63 -> 18
A64: ИИ | B64: 12 | C64: ='12 клас_Ав'!B27 -> Специализирана дейност | D64: ='12 клас_Ав'!C27 -> 2 | E64: ='12 клас_Ав'!D27 -> 0 | G64: =$D64*$D$2+$E64*11 -> 36 | H64: 648 | I64: 1 | J64: =G64*I64 -> 36 | M64: =G64 -> 36
A65: ИИ | B65: 12 | C65: ='12 клас_Ав'!B28 -> Транспортно и търговско право | D65: ='12 клас_Ав'!C28 -> 0 | E65: ='12 клас_Ав'!D28 -> 3 | G65: =$D65*$D$2+$E65*11 -> 33 | H65: 648 | I65: 1 | J65: =G65*I65 -> 33 | M65: =G65 -> 33
A66: ИИ | B66: 12 | C66: ='12 клас_Ав'!B31 -> Експлоатация на автотранспортна техника | D66: ='12 клас_Ав'!C31 -> 4 | E66: ='12 клас_Ав'!D31 -> 4 | G66: =$D66*$D$2+$E66*11 -> 116 | H66: 840 | I66: 0.81 | J66: =G66*I66 -> 93.96 | M66: =G66 -> 116
A67: ИИ | B67: 12 | C67: ='12 клас_Ав'!B32 -> Счетоводна отчетност | D67: ='12 клас_Ав'!C32 -> 2 | E67: ='12 клас_Ав'!D32 -> 2 | G67: =$D67*$D$2+$E67*11 -> 58 | H67: 840 | I67: 0.81 | J67: =G67*I67 -> 46.98 | M67: =G67 -> 58
A68: ИИ | B68: 12 | C68: ='12 клас_Ав'!B33 -> По специалността | D68: ='12 клас_Ав'!C33 -> 4 | E68: ='12 клас_Ав'!D33 -> 7 | G68: =$D68*$D$2+$E68*11 -> 149 | H68: 648 | I68: 1 | J68: =G68*I68 -> 149 | M68: =G68 -> 149
A69: ИИ | B69: 12 | C69: ='12 клас_Ав'!B34 -> Управление на моторно превозно средство | D69: ='12 клас_Ав'!C34 -> 1 | E69: ='12 клас_Ав'!D34 -> 1 | F69: ='12 клас_Ав'!E34 -> 1 | G69: =$D69*$D$2+$E69*11+F69*2 -> 31 | H69: 648 | I69: 1 | J69: =G69*I69 -> 31 | M69: =G69 -> 31
A70: ИИ | B70: 12 | C70: ='12 клас_Ав'!B35 -> Производствена практика | F70: ='12 клас_Ав'!E35 -> 32 | G70: =F70*$F$2 -> 64 | H70: 840 | I70: 0.81 | J70: =G70*I70 -> 51.84 | M70: =G70 -> 64
A71: ИИ | B71: 12 | C71: ='12 клас_Ав'!B37 -> Организация и управление на транспортно предприятие | D71: ='12 клас_Ав'!C37 -> 1 | E71: ='12 клас_Ав'!D37 -> 1 | G71: =$D71*$D$2+$E71*11 -> 29 | H71: 648 | I71: 1 | J71: =G71*I71 -> 29 | M71: =G71 -> 29
J72: =SUM(J55:J71) -> 751.78 | K72: =J72-648 -> 103.78 | L72: =SUM(L55:L71) -> 180 | M72: =SUM(M55:M71) -> 617
A73: ЛЕКТОР | B73: 11 | C73: ='11 клас_тЛВ '!B28 -> Технология на винопроизводството | D73: ='11 клас_тЛВ '!C28 -> 2 | E73: ='11 клас_тЛВ '!D28 -> 3 | G73: =$D73*$D$2+$E73*18 -> 90 | H73: 648 | I73: 1 | J73: =G73*I73 -> 90 | L73: =G73 -> 90
A74: ЛЕКТОР | B74: 11 | C74: ='11 клас_тЛВ '!B35 -> Технология на винопроизводството | D74: ='11 клас_тЛВ '!C35 -> 3 | E74: ='11 клас_тЛВ '!D35 -> 2 | G74: =$D74*$D$2+$E74*18 -> 90 | H74: 840 | I74: 1 | J74: =G74*I74 -> 90 | L74: =G74 -> 90
J75: =SUM(J73:J74) -> 180 | K75: =SUM(K73:K74) -> 0 | L75: =SUM(L73:L74) -> 180 | M75: =SUM(M73:M74) -> 0
A76: ЛП | B76: 7 | C76: ='7 клас '!B15 -> Биология и здравно образование | D76: ='7 клас '!C15 -> 2 | E76: ='7 клас '!D15 -> 2 | G76: =$D76*$D$2+$E76*18 -> 72 | H76: 684 | I76: 1 | J76: =G76*I76 -> 72 | L76: =G76 -> 72
A77: ЛП | B77: 8 | C77: ='8 клас_ЕМА'!B16 -> Биология и здравно образование | D77: 1.5 | E77: 1.5 | G77: =$D77*$D$2+$E77*18 -> 54 | H77: 684 | I77: 1 | J77: =G77*I77 -> 54 | M77: =G77 -> 54
A78: ЛП | B78: 9 | C78: ='9 клас_тЛВ'!B17 -> Биология и здравно образование | D78: ='9 клас_тЛВ'!C17 -> 1 | E78: ='9 клас_тЛВ'!D17 -> 1 | G78: =$D78*$D$2+$E78*18 -> 36 | H78: 684 | I78: 1 | J78: =G78*I78 -> 36 | L78: =G78 -> 36
A79: ЛП | B79: 10 | C79: ='10 клас_ХС'!B17 -> Биология и здравно образование | D79: ='10 клас_ХС'!C17 -> 2 | E79: ='10 клас_ХС'!D17 -> 2 | G79: =$D79*$D$2+$E79*18 -> 72 | H79: 684 | I79: 1 | J79: =G79*I79 -> 72 | M79: =G79 -> 72
A80: ЛП | B80: 8 | C80: Биология и здравно образование ИУП | D80: 1 | E80: 0.5 | G80: =$D80*$D$2+$E80*18 -> 27 | H80: 900 | I80: 1.39 | J80: =G80*I80 -> 37.53
A81: ЛП | B81: 7 | C81: ='7 клас '!B17 -> Химия и опазване на околната среда | D81: ='7 клас '!C17 -> 2 | E81: ='7 клас '!D17 -> 1 | G81: =$D81*$D$2+$E81*18 -> 54 | H81: 684 | I81: 1 | J81: =G81*I81 -> 54 | L81: =G81 -> 54
A82: ЛП | B82: 8 | C82: ='8 клас_ЕМА'!B18 -> Химия и опазване на околната среда | D82: ='8 клас_ЕМА'!C18 -> 1 | E82: ='8 клас_ЕМА'!D18 -> 1 | G82: =$D82*$D$2+$E82*18 -> 36 | H82: 684 | I82: 1 | J82: =G82*I82 -> 36 | M82: =G82 -> 36
A83: ЛП | B83: 9 | C83: ='9 клас_тЛВ'!B19 -> Химия и опазване на околната среда | D83: ='9 клас_тЛВ'!C19 -> 1 | E83: ='9 клас_тЛВ'!D19 -> 2 | G83: =$D83*$D$2+$E83*18 -> 54 | H83: 684 | I83: 1 | J83: =G83*I83 -> 54 | L83: =G83 -> 54
A84: ЛП | B84: 10 | C84: ='10 клас_ХС'!B19 -> Химия и опазване на околната среда | D84: ='10 клас_ХС'!C19 -> 2 | E84: ='10 клас_ХС'!D19 -> 2 | G84: =$D84*$D$2+$E84*18 -> 72 | H84: 684 | I84: 1 | J84: =G84*I84 -> 72 | M84: =G84 -> 72
A85: ЛП | B85: 5 | C85: ='5 клас'!B15 -> Човекът и природата | D85: 2.5 | E85: 2.5 | G85: =$D85*$D$2+$E85*16 -> 85 | H85: 684 | I85: 1 | J85: =G85*I85 -> 85 | L85: =G85 -> 85
A86: ЛП | B86: 6 | C86: ='6 клас '!B15 -> Човекът и природата | D86: 2.5 | E86: 2.5 | G86: =$D86*$D$2+$E86*16 -> 85 | H86: 684 | I86: 1 | J86: =G86*I86 -> 85 | L86: =G86 -> 85
A87: ЛП | B87: 9 | C87: ='9 клас_тЛВ'!B31 -> Почвознание | D87: ='9 клас_тЛВ'!C31 -> 1 | E87: ='9 клас_тЛВ'!D31 -> 0 | G87: =$D87*$D$2+$E87*18 -> 18 | H87: 648 | I87: 1.06 | J87: =G87*I87 -> 19.08 | L87: =G87 -> 18
A88: ЛП | B88: 9 | C88: ='9 клас_тЛВ'!B32 -> Ботаника | D88: ='9 клас_тЛВ'!C32 -> 0 | E88: ='9 клас_тЛВ'!D32 -> 1 | G88: =$D88*$D$2+$E88*18 -> 18 | H88: 648 | I88: 1.06 | J88: =G88*I88 -> 19.08 | L88: =G88 -> 18
A89: ЛП | B89: 9 | C89: ='9 клас_тЛВ'!B37 -> Лозарство | D89: ='9 клас_тЛВ'!C37 -> 2 | E89: ='9 клас_тЛВ'!D37 -> 2 | G89: =$D89*$D$2+$E89*18 -> 72 | H89: 648 | I89: 1.06 | J89: =G89*I89 -> 76.32 | L89: =G89 -> 72
A90: ЛП | B90: 9 | C90: ='9 клас_тЛВ'!B38 -> Ботаника | D90: ='9 клас_тЛВ'!C38 -> 2 | E90: ='9 клас_тЛВ'!D38 -> 2 | G90: =$D90*$D$2+$E90*18 -> 72 | H90: 648 | I90: 1.06 | J90: =G90*I90 -> 76.32 | L90: =G90 -> 72
A91: ЛП | B91: 11 | C91: ='11 клас_тЛВ '!B27 -> Машини в лозарството | D91: ='11 клас_тЛВ '!C27 -> 1 | E91: ='11 клас_тЛВ '!D27 -> 1 | G91: =$D91*$D$2+$E91*18 -> 36 | H91: 648 | I91: 1.06 | J91: =G91*I91 -> 38.16 | L91: =G91 -> 36
A92: ЛП | B92: 11 | C92: ='11 клас_тЛВ '!B30 -> Микробиология | D92: ='11 клас_тЛВ '!C30 -> 1 | E92: ='11 клас_тЛВ '!D30 -> 1 | G92: =$D92*$D$2+$E92*18 -> 36 | H92: 648 | I92: 1.06 | J92: =G92*I92 -> 38.16 | L92: =G92 -> 36
A93: ЛП | B93: 11 | C93: ='11 клас_тЛВ '!B39 -> Машини в лозарството | D93: ='11 клас_тЛВ '!C39 -> 1 | E93: ='11 клас_тЛВ '!D39 -> 1 | G93: =$D93*$D$2+$E93*18 -> 36 | H93: 648 | I93: 1.06 | J93: =G93*I93 -> 38.16 | L93: =G93 -> 36
J94: =SUM(J76:J93) -> 962.81 | K94: =J94-684 -> 278.81 | L94: =SUM(L76:L93) -> 674 | M94: =SUM(M76:M93) -> 234
A95: МД | B95: 5 | C95: ='5 клас'!B11 -> Математика | D95: ='5 клас'!C11 -> 5 | E95: ='5 клас'!D11 -> 5 | G95: =$D95*$D$2+$E95*16 -> 170 | H95: 648 | I95: 1 | J95: =G95*I95 -> 170 | L95: =G95 -> 170
A96: МД | B96: 6 | C96: ='6 клас '!B11 -> Математика | D96: ='6 клас '!C11 -> 5 | E96: ='6 клас '!D11 -> 5 | G96: =$D96*$D$2+$E96*16 -> 170 | H96: 648 | I96: 1 | J96: =G96*I96 -> 170 | L96: =G96 -> 170
A97: МД | B97: 7 | C97: ='7 клас '!B11 -> Математика | D97: ='7 клас '!C11 -> 5 | E97: ='7 клас '!D11 -> 5 | G97: =$D97*$D$2+$E97*18 -> 180 | H97: 648 | I97: 1 | J97: =G97*I97 -> 180 | L97: =G97 -> 180
A98: МД | B98: 8 | C98: ='8 клас_ЕМА'!B11 -> Математика | D98: ='8 клас_ЕМА'!C11 -> 3 | E98: ='8 клас_ЕМА'!D11 -> 3 | G98: =$D98*$D$2+$E98*18 -> 108 | H98: 648 | I98: 1 | J98: =G98*I98 -> 108 | M98: =G98 -> 108
A99: МД | B99: 9 | C99: ='9 клас_тЛВ'!B12 -> Математика | D99: ='9 клас_тЛВ'!C12 -> 3 | E99: ='9 клас_тЛВ'!D12 -> 3 | G99: =$D99*$D$2+$E99*18 -> 108 | H99: 648 | I99: 1 | J99: =G99*I99 -> 108 | L99: =G99 -> 108
A100: МД | B100: 10 | C100: ='10 клас_ХС'!B12 -> Математика | D100: ='10 клас_ХС'!C12 -> 2 | E100: ='10 клас_ХС'!D12 -> 2 | G100: =$D100*$D$2+$E100*18 -> 72 | H100: 648 | I100: 1 | J100: =G100*I100 -> 72 | M100: =G100 -> 72
...

Sheet Лист1
A1: ='5-12 OOP'!A79 -> РТ | B1: ='5-12 OOP'!B79 -> 8 | C1: ='5-12 OOP'!C79 -> Физика и астрономия | D1: ='5-12 OOP'!D79 -> 1.5 | E1: ='5-12 OOP'!E79 -> 1.5 | F1: ='5-12 OOP'!F79 -> 0 | G1: ='5-12 OOP'!G79 -> 54 | H1: ='5-12 OOP'!H79 -> 0
A2: ='5-12 OOP'!A80 -> РТ | B2: ='5-12 OOP'!B80 -> 9 | C2: ='5-12 OOP'!C80 -> Физика и астрономия | D2: ='5-12 OOP'!D80 -> 1 | E2: ='5-12 OOP'!E80 -> 1 | F2: ='5-12 OOP'!F80 -> 0 | G2: ='5-12 OOP'!G80 -> 36 | H2: ='5-12 OOP'!H80 -> 0
A3: ='5-12 OOP'!A81 -> РТ | B3: ='5-12 OOP'!B81 -> 10 | C3: ='5-12 OOP'!C81 -> Физика и астрономия | D3: ='5-12 OOP'!D81 -> 2 | E3: ='5-12 OOP'!E81 -> 2 | F3: ='5-12 OOP'!F81 -> 0 | G3: ='5-12 OOP'!G81 -> 72 | H3: ='5-12 OOP'!H81 -> 0
A4: ='5-12 OOP'!A82 -> РТ | B4: ='5-12 OOP'!B82 -> 7 | C4: ='5-12 OOP'!C82 -> Физика и астрономия | D4: ='5-12 OOP'!D82 -> 1.5 | E4: ='5-12 OOP'!E82 -> 1.5 | F4: ='5-12 OOP'!F82 -> 0 | G4: ='5-12 OOP'!G82 -> 54 | H4: ='5-12 OOP'!H82 -> 0

Sheet преподаватели
A1: препод | B1: № | C1: Видове подготовка, учебни предмети/ модули | D1: брой учебни седмици | G1: годишен брой часове | H1: по предмета | I1: брой нормативи | J1: фин. От бюджета | K1: фин. От паралелки
D2: 18 | E2: 16, 18, 11 | F2: 2
D3: седмичен брой часове
B4: 1 | C4: 2 | D4: 3 | E4: 4 | F4: 5 | G4: 6 | H4: 7 | I4: 8 | J4: 9 | K4: 10

Sheet нормативи2526
A1: предмет | B1: ООП | C1: РП/РПП | D1: ИУП | E1: общо | F1: норма | G1: щб | I1: лч
A2: БЕЛ | B2: =SUM('2526'!E28:E29,'2526'!E37,'2526'!E39,'2526'!E41,'2526'!E43,'2526'!E45) -> 1001 | C2: =SUM('2526'!E30,'2526'!E38,'2526'!E40,'2526'!E42,C32) -> 168 | D2: ='2526'!E44 -> 72 | E2: =SUM(B2:D2) -> 1241 | F2: 648 | G2: =E2/F2 -> 1.9151235
A3: МАТ | B3: =SUM('2526'!E94:E105,'2526'!E107) -> 1324 | D3: 54 | E3: =SUM(B3:D3) -> 1378 | F3: 648 | G3: =E3/F3 -> 2.1265432
A4: ИЦ | B4: =SUM('2526'!E77:E80,'2526'!E82) -> 352 | D4: 36 | E4: =SUM(B4:D4) -> 388 | F4: 684 | G4: =E4/F4 -> 0.56725146 | H4: =SUM(E4:E7) -> 646
A5: Ф-я | B5: =SUM('2526'!E193:E195) -> 72 | E5: =SUM(B5:D5) -> 72 | F5: 684 | G5: =E5/F5 -> 0.10526316
A6: ГО | B6: =SUM('2526'!E53:E54) -> 65 | E6: =SUM(B6:D6) -> 65 | F6: 684 | G6: =E6/F6 -> 0.09502924
A7: Хор-я | C7: =SUM('2526'!E200:E202) -> 121 | E7: =SUM(B7:C7) -> 121 | F7: 700 | G7: =E7/F7 -> 0.17285714
A8: ГИ | B8: =SUM('2526'!E47:E50,'2526'!E52) -> 280 | D8: 18 | E8: =SUM(B8:D8) -> 298 | F8: 684 | G8: =E8/F8 -> 0.43567251
A9: Икономика | F9: 648
A10: ЧП | B10: =SUM('2526'!E219:E220) -> 170 | E10: =SUM(B10:D10) -> 170 | F10: 684 | G10: =E10/F10 -> 0.24853801 | H10: =SUM(E10:E12) -> 503
A11: БЗО | B11: =SUM('2526'!E18:E19,'2526'!E21) -> 162 | D11: 27 | E11: =SUM(B11:D11) -> 189 | F11: 684 | G11: =E11/F11 -> 0.27631579
A12: ХООС | B12: =SUM('2526'!E196:E199) -> 144 | E12: =SUM(B12:D12) -> 144 | F12: 684 | G12: =E12/F12 -> 0.21052632
A13: ФА | B13: =SUM('2526'!E177:E180) -> 144 | E13: =SUM(B13:D13) -> 144 | F13: 684 | G13: =E13/F13 -> 0.21052632
A14: ФВС | B14: =SUM('2526'!E182:E192) -> 745 | E14: =SUM(B14:D14) -> 745 | F14: 700 | G14: =E14/F14 -> 1.0642857 | H14: =SUM(E14:E16) -> 986
A15: СД - волейбол | B15: =SUM('2526'!E114:E118) -> 137 | E15: =SUM(B15:D15) -> 137 | F15: 700 | G15: =E15/F15 -> 0.19571429
A16: СД - футбол | B16: =SUM('2526'!E123:E125) -> 104 | E16: =SUM(B16:D16) -> 104 | F16: 700 | G16: =E16/F16 -> 0.14857143 | I16: =H14-F16 -> 286
A17: БДП 11 | B17: 36 | E17: =SUM(B17:D17) -> 36 | F17: 648 | G17: =E17/F17 -> 0.055555556 | H17: =SUM(E17:E29) -> 703
A18: Упр на МПС 11 | B18: 20 | C18: 36 | E18: =SUM(B18:D18) -> 56 | F18: 648 | G18: =E18/F18 -> 0.086419753
A19: Р с МТА 11 | B19: 16 | C19: 36 | E19: =SUM(B19:D19) -> 52 | F19: 840 | G19: =E19/F19 -> 0.061904762 | J19: 840 | K19: =SUM(G19,G22,G27:G29) -> 0.49047619
A20: АвТ техника | B20: 36 | E20: =SUM(B20:D20) -> 36 | F20: 648 | G20: =E20/F20 -> 0.055555556 | J20: 648 | K20: =SUM(G17:G18,G20:G21,G23:G26) -> 0.44907407
A21: Екс_АвТТ | B21: 36 | E21: =SUM(B21:D21) -> 36 | F21: 648 | G21: =E21/F21 -> 0.055555556
A22: Екс_АвТТ - уп | B22: 116 | E22: =SUM(B22:D22) -> 116 | F22: 840 | G22: =E22/F22 -> 0.13809524
A23: ИнфС в транспорта | B23: 11 | E23: =SUM(B23:D23) -> 11 | F23: 648 | G23: =E23/F23 -> 0.016975309
A24: Орг ТП | B24: 18 | C24: 29 | E24: =SUM(B24:D24) -> 47 | F24: 648 | G24: =E24/F24 -> 0.072530864
A25: Спец. дейност | B25: 36 | E25: =SUM(B25:D25) -> 36 | F25: 648 | G25: =E25/F25 -> 0.055555556
A26: ТрТърг право | B26: 33 | E26: =SUM(B26:D26) -> 33 | F26: 648 | G26: =E26/F26 -> 0.050925926
A27: УП -По спец-та | B27: 149 | E27: =SUM(B27:D27) -> 149 | F27: 840 | G27: =E27/F27 -> 0.17738095
A28: Пр.Практика 12 | B28: 64 | E28: =SUM(B28:D28) -> 64 | F28: 840 | G28: =E28/F28 -> 0.076190476
A29: Упр. на МПС УП | B29: 31 | E29: =SUM(B29:D29) -> 31 | F29: 840 | G29: =E29/F29 -> 0.036904762
A30: Пр.Практика 11 | B30: 64 | E30: =SUM(B30:D30) -> 64 | F30: 840 | G30: =E30/F30 -> 0.076190476
A31: ИИ | B31: 290 | D31: 18 | E31: =SUM(B31:D31) -> 308 | F31: 700 | G31: =E31/F31 -> 0.44 | H31: =SUM(E31:E34) -> 746
A32: ИТ/КМИТ | B32: 228 | C32: 36 | E32: =SUM(B32:D32) -> 264 | F32: 648 | G32: =E32/F32 -> 0.40740741
A33: ТП | B33: 138 | E33: =SUM(B33:D33) -> 138 | F33: 700 | G33: =E33/F33 -> 0.19714286
A34: Пр-во | B34: 36 | E34: =SUM(B34:D34) -> 36 | F34: 648 | G34: =E34/F34 -> 0.055555556
A35: Почвознание | B35: 18 | E35: =SUM(B35:D35) -> 18 | F35: 648 | G35: =E35/F35 -> 0.027777778 | H35: =SUM(E35:E39) -> 342
A36: Ботаника | B36: 18 | C36: 72 | E36: =SUM(B36:D36) -> 90 | F36: 648 | G36: =E36/F36 -> 0.13888889
A37: Лозарство | B37: 90 | C37: 72 | E37: =SUM(B37:D37) -> 162 | F37: 648 | G37: =E37/F37 -> 0.25
A38: Машини в лоз-то | B38: 36 | E38: =SUM(B38:D38) -> 36 | F38: 648 | G38: =E38/F38 -> 0.055555556
A39: Микробиология | B39: 36 | E39: =SUM(B39:D39) -> 36 | F39: 648 | G39: =E39/F39 -> 0.055555556
A40: Почвознание | B40: 18 | E40: =SUM(B40:D40) -> 18 | F40: 840 | G40: =E40/F40 -> 0.021428571 | H40: =SUM(E40:E46) -> 406
A41: Ботаника | B41: 18 | E41: =SUM(B41:D41) -> 18 | F41: 840 | G41: =E41/F41 -> 0.021428571
A42: УП - Лозарство | C42: 72 | E42: =SUM(B42:D42) -> 72 | F42: 840 | G42: =E42/F42 -> 0.085714286
A43: УП - Ботаника | C43: 72 | E43: =SUM(B43:D43) -> 72 | F43: 840 | G43: =E43/F43 -> 0.085714286
A44: УП - Лозарство | B44: 90 | E44: =SUM(B44:D44) -> 90 | F44: 840 | G44: =E44/F44 -> 0.10714286
A45: Производствена | B45: 64 | E45: =SUM(B45:D45) -> 64 | F45: 840 | G45: =E45/F45 -> 0.076190476
A46: УП-Маш. в лоз-то | B46: 72 | E46: =SUM(B46:D46) -> 72 | F46: 840 | G46: =E46/F46 -> 0.085714286
A47: ЧЕ - АЕ | B47: 674 | E47: =SUM(B47:D47) -> 674 | F47: 648 | G47: =E47/F47 -> 1.0401235
A48: ЧЕ - НЕ | B48: 216 | E48: =SUM(B48:D48) -> 216 | F48: 648 | G48: =E48/F48 -> 0.33333333
A49: ЧЕП - НЕ | B49: 130 | E49: =SUM(B49:D49) -> 130 | F49: 648 | G49: =E49/F49 -> 0.20061728 | H49: =SUM(E48:E49) -> 346
A50: Музика | B50: 226 | D50: 18 | E50: =SUM(B50:D50) -> 244 | F50: 700 | G50: =E50/F50 -> 0.34857143

Sheet 2526
A1: клас | B1: предмет | C1: седмици | D1: седмични часове | E1: годишни часове | F1: лист
A2: 12 | B2: Автотранспортна техника | C2: 2 | E2: 36 | F2: 12 клас_Ав
A3: 11 | B3: Безопасност на движението | C3: 1 | E3: 36 | F3: 11 клас_Ав
A4: 1 | B4: Безопасност на движението по пътищата... | C4: 5 | E4: 9 | F4: 1 клас
A5: 10 | B5: Безопасност на движението по пътищата... | C5: 2 | E5: 4 | F5: 10 клас_т-л
A6: 11 | B6: Безопасност на движението по пътищата... | C6: 2 | E6: 4 | F6: 11 клас_Ав
A7: 12 | B7: Безопасност на движението по пътищата... | C7: 1 | E7: 1 | F7: 12 клас_Ав
A8: 2 | B8: Безопасност на движението по пътищата... | C8: 3 | E8: 6 | F8: 2 клас
A9: 3 | B9: Безопасност на движението по пътищата... | C9: 3 | E9: 6 | F9: 3 клас
A10: 4 | B10: Безопасност на движението по пътищата... | C10: 3 | E10: 6 | F10: 4 клас
A11: 5 | B11: Безопасност на движението по пътищата... | C11: 3 | E11: 5 | F11: 5 клас
A12: 6 | B12: Безопасност на движението по пътищата... | C12: 3 | E12: 5 | F12: 6 клас
A13: 7 | B13: Безопасност на движението по пътищата... | C13: 3 | E13: 5 | F13: 7 клас
... A68: 8 | B68: Изобразително изкуство | C68: 0 | E68: 18 | F68: 8 клас_х
A69: 9 | B69: Изобразително изкуство | C69: 0 | E69: 18 | F69: 9 клас_тЛВ | G69: =SUM(E62,E64,E65,E66,E67,,E69) -> 290
A70: 10 | B70: Икономика | C70: 1 | E70: 36 | F70: 10 клас_т-л
A71: 12 | B71: Информационни системи в транспорта | C71: 0 | E71: 11 | F71: 12 клас_Ав
A72: 10 | B72: Информационни технологии | C72: 0 | E72: 18 | F72: 10 клас_т-л
A73: 8 | B73: Информационни технологии | C73: 1 | E73: 36 | F73: 8 клас_ЕМА
A74: 8 | B74: Информационни технологии | C74: 1 | E74: 0 | F74: 8 клас_х
A75: 9 | B75: Информационни технологии | C75: 1 | E75: 36 | F75: 9 клас_тЛВ
A76: 10 | B76: История и цивилизации | C76: 4 | E76: 126 | F76: 10 клас_т-л
A77: 5 | B77: История и цивилизации | C77: 2 | E77: 68 | F77: 5 клас
A78: 6 | B78: История и цивилизации | C78: 2 | E78: 68 | F78: 6 клас
A79: 7 | B79: История и цивилизации | C79: 2 | E79: 72 | F79: 7 клас
A80: 8 | B80: История и цивилизации | C80: 2 | E80: 72 | F80: 8 клас_ЕМА
A81: 8 | B81: История и цивилизации | C81: 1 | E81: 36 | F81: 8 клас_х
... A87: 7 | B87: Компютърно моделиране и информационни технологии | C87: 1 | E87: 54 | F87: 7 клас
A88: 7 | B88: Компютърно моделиране и информационни технологии | C88: 1 | E88: 36 | F88: 7 клас | G88: =SUM(E73,E75,E85,E86,E87) -> 228
A89: 11 | B89: Лозарство | C89: 3 | E89: 90 | F89: 11 клас_Ав
A90: 11 | B90: Лозарство УП | C90: 2 | E90: 90 | F90: 11 клас_Ав
A91: 9 | B91: Лозарство | C91: 2 | E91: 72 | F91: 9 клас_тЛВ
A92: 1 | B92: Математика | C92: 4 | E92: 128 | F92: 1 клас
A93: 1 | B93: Математика | C93: 1 | E93: 32 | F93: 1 клас
A94: 11 | B94: Математика | C94: 2 | E94: 72 | F94: 11 клас_тЛВ
A95: 12 | B95: Математика | C95: 2 | E95: 58 | F95: 12 клас_Ав
A96: 2 | B96: Математика | C96: 3 | E96: 112 | F96: 2 клас
A97: 2 | B97: Математика | C97: 1 | E97: 32 | F97: 2 клас
A98: 3 | B98: Математика | C98: 4 | E98: 112 | F98: 3 клас
A99: 3 | B99: Математика | C99: 1 | E99: 32 | F99: 3 клас
A100: 4 | B100: Математика | C100: 4 | E100: 136 | F100: 4 клас
... A134: 8 | B134: Музика | C134: 1 | E134: 18 | F134: 8 клас_х
A135: 9 | B135: Музика | C135: 1 | E135: 18 | F135: 9 клас_тЛВ | G135: =SUM(E130:E133,E135) -> 226
A136: 1 | B136: Общо за Раздел А | C136: 19 | E136: 608 | F136: 1 клас
A137: 12 | B137: Общо за Раздел А | C137: 12 | E137: 348 | F137: 12 клас_Ав
A138: 2 | B138: Общо за Раздел А | C138: 20 | E138: 640 | F138: 2 клас
A139: 3 | B139: Общо за Раздел А | C139: 24 | E139: 784 | F139: 3 клас
A140: 4 | B140: Общо за Раздел А | C140: 24 | E140: 833 | F140: 4 клас
A141: 5 | B141: Общо за Раздел А | C141: 29 | E141: 1003 | F141: 5 клас
A142: 6 | B142: Общо за Раздел А | C142: 30 | E142: 1003 | F142: 6 клас
A143: 7 | B143: Общо за Раздел А | C143: 30 | E143: 1062 | F143: 7 клас
A144: 9 | B144: Общо за Раздел А | C144: 22 | E144: 792 | F144: 9 клас_тЛВ
A145: 12 | B145: Организация и управление на транспортно предприятие | C145: 1 | E145: 18 | F145: 12 клас_Ав
A146: 12 | B146: Организация и управление на транспортно предприятие | C146: 1 | E146: 29 | F146: 12 клас_Ав
A147: 12 | B147: По специалността | C147: 4 | E147: 149 | F147: 12 клас_Ав
... A150: 8 | B150: Предприемачество | C150: 1 | E150: 36 | F150: 8 клас_ЕМА
A151: 11 | B151: Производствена практика | E151: 64 | F151: 11 клас_Ав
A152: 12 | B152: Производствена практика | E152: 64 | F152: 12 клас_Ав
A153: 11 | B153: Работа с машинно-тракторни агрегати | C153: 1 | E153: 16 | F153: 11 клас_Ав
A154: 11 | B154: Работа с машинно-тракторни агрегати РП | C154: 1 | E154: 36 | F154: 11 клас_Ав
A155: 1 | B155: Родинознание | C155: 1 | E155: 32 | F155: 1 клас
A156: 2 | B156: Родинознание | C156: 1 | E156: 32 | F156: 2 клас
A157: 12 | B157: Специализирана дейност | C157: 2 | E157: 36 | F157: 12 клас_Ав
A158: 12 | B158: Счетоводна отчетност | C158: 2 | E158: 58 | F158: 12 клас_Ав
A159: 8 | B159: Техническа механика | C159: 1 | E159: 18 | F159: 8 клас_ЕМА
A160: 8 | B160: Техническа механика | C160: 2 | E160: 36 | F160: 8 клас_ЕМА
A161: 1 | B161: Технологии и предприемачество | C161: 1 | E161: 32 | F161: 1 клас
A162: 2 | B162: Технологии и предприемачество | C162: 1 | E162: 32 | F162: 2 клас
A163: 3 | B163: Технологии и предприемачество | C163: 1 | E163: 32 | F163: 3 клас
A164: 4 | B164: Технологии и предприемачество | C164: 1 | E164: 34 | F164: 4 клас
... A166: 6 | B166: Технологии и предприемачество | C166: 2 | E166: 51 | F166: 6 клас
A167: 7 | B167: Технологии и предприемачество | C167: 1 | E167: 36 | F167: 7 клас | G167: =SUM(E165,E166,E167) -> 138
A168: 11 | B168: Технология на винопроизводството | C168: 2 | E168: 90 | F168: 11 клас_Ав
A169: 11 | B169: Технология на винопроизводството | C169: 3 | E169: 90 | F169: 11 клас_Ав
A170: 12 | B170: Транспортно и търговско право | C170: 0 | E170: 33 | F170: 12 клас_Ав
A171: 11 | B171: Управление на моторна превозно средство | C171: 1 | E171: 20 | F171: 11 клас_Ав
A172: 11 | B172: Управление на моторна превозно средство РП | C172: 1 | E172: 36 | F172: 11 клас_Ав
A173: 12 | B173: Управление на моторно превозно средство | C173: 1 | E173: 31 | F173: 12 клас_Ав
A174: 9 | B174: Учебна практика - Ботаника | C174: 2 | E174: 72 | F174: 9 клас_тЛВ
A175: 8 | B175: Учебна практика - електрически измервания | C175: 3 | E175: 108 | F175: 8 клас_ЕМА
A176: 9 | B176: Учебна практика - Лозарство | C176: 2 | E176: 72 | F176: 9 клас_тЛВ
A177: 7 | B177: Физика и астрономия | C177: 2 | E177: 54 | F177: 7 клас
A178: 8 | B178: Физика и астрономия | C178: 2 | E178: 54 | F178: 8 клас_ЕМА
A179: 8 | B179: Физика и астрономия | C179: 0 | E179: 0 | F179: 8 клас_х
... A228: 7 | B228: Чужд език - Английски език | C228: 3 | E228: 108 | F228: 7 клас
A229: 9 | B229: Чужд език - Английски език | C229: 2 | E229: 72 | F229: 9 клас_тЛВ | G229: =SUM(E221,E222,E223,E224,E226,E227,E228,E229) -> 674
A230: 8 | B230: Чужд език - Немски език | C230: 4 | E230: 144 | F230: 8 клас_ЕМА
A231: 8 | B231: Чужд език - Немски език | C231: 4 | E231: 0 | F231: 8 клас_х
A232: 9 | B232: Чужд език - Немски език | C232: 2 | E232: 72 | F232: 9 клас_тЛВ | G232: =SUM(E230,E232) -> 216
A233: 11 | B233: Чужд език по професията - Немски език | C233: 2 | E233: 72 | F233: 11 клас_Ав
A234: 12 | B234: Чужд език по професията - Немски език | C234: 2 | E234: 58 | F234: 12 клас_Ав | G234: =SUM(E233:E234) -> 130

Sheet ЛВ
A1: клас
A2: 5 | B2: Човекът и природата | C2: 3 | D2: 2 | E2: 85 | F2: лп
A3: 6 | B3: Човекът и природата | C3: 2 | D3: 3 | E3: 85 | F3: лп
A4: 7 | B4: Биология и здравно образование | C4: 2 | D4: 2 | E4: 72 | F4: лп
A5: 7 | B5: Химия и опазване на околната среда | C5: 2 | D5: 1 | E5: 54 | F5: лп
A6: 8 | B6: Биология и здравно образование | C6: 1 | D6: 2 | E6: 54 | F6: лп
A7: 8 | B7: Химия и опазване на околната среда | C7: 1 | D7: 1 | E7: 36 | F7: лп
A8: 9 | B8: Биология и здравно образование | C8: 1 | D8: 1 | E8: 36 | F8: лп
A9: 9 | B9: Химия и опазване на околната среда | C9: 1 | D9: 2 | E9: 54 | F9: лп
A10: 9 | B10: Почвознание | C10: 1 | D10: 0 | E10: 18 | F10: лп
A11: 9 | B11: Ботаника | C11: 0 | D11: 1 | E11: 18 | F11: лп
B12: практики
A13: 9 | B13: Почвознание | C13: 1 | D13: 0 | E13: 18 | F13: д
A14: 9 | B14: Ботаника | C14: 0 | D14: 1 | E14: 18 | F14: д
A15: 9 | B15: РПП
A16: 9 | B16: Лозарство | C16: 2 | D16: 2 | E16: 72 | F16: лп
A17: 9 | B17: Ботаника | C17: 2 | D17: 2 | E17: 72 | F17: лп
A18: 9 | B18: Учебна практика - Лозарство | C18: 2 | D18: 2 | E18: 72 | F18: д
A19: 9 | B19: Учебна практика - Ботаника | C19: 2 | D19: 2 | E19: 72 | F19: д
A20: 11 | B20: Лозарство | C20: 3 | D20: 2 | E20: 90 | F20: лп
A21: 11 | B21: Машини в лозарството | C21: 1 | D21: 1 | E21: 36 | F21: лп
A22: 11 | B22: Микробиология | C22: 1 | D22: 1 | E22: 36 | F22: лп
A23: 11 | B23: Производствена | E23: 64 | F23: д
B24: практики
A25: 11 | B25: Лозарство | C25: 2 | D25: 3 | E25: 90 | F25: д
A26: 11 | B26: Машини в лозарството | C26: 2 | D26: 2 | E26: 72 | F26: д
E27: =SUM(E2:E26) -> 1224 | F27: =SUM(E2:E9,E11,E14,E16:E17,E20) -> 746 | G27: =SUM(E10,E13,E18:E19,E23,E25:E26) -> 406
B28: лектор | F28: =SUM(E2:E9) -> 476
A29: 11 | B29: Технология на винопроизводството | C29: 2 | D29: 3 | E29: 90 | F29: =F27-F28 -> 270
A30: 11 | B30: Машини във винопроизводството | C30: 2 | D30: 2 | E30: 72
A31: 11 | B31: Технология на винопроизводството | C31: 3 | D31: 2 | E31: 90
E32: =SUM(E29:E31) -> 252

Sheet Sheet3
A4: Сагласувано:
B5: /Галя Стойчева/
A6: Председател на Обществения съвет към СУ „Св. Климент Охридски”, гр. Сухиндол
A7: УТВЪРЖДАВАМ:
B8: /Пепи Стефанова/
A9: Директор на СУ „Св. Климент Охридски”, гр. Сухиндол
